BEGIN:VCALENDAR
VERSION:2.0
PRODID:-//Les commerçants d&#039;Hem J&#039;aime - ECPv6.15.20//NONSGML v1.0//EN
CALSCALE:GREGORIAN
METHOD:PUBLISH
X-WR-CALNAME:Les commerçants d&#039;Hem J&#039;aime
X-ORIGINAL-URL:https://www.commerces-hem.fr
X-WR-CALDESC:Évènements pour Les commerçants d&#039;Hem J&#039;aime
REFRESH-INTERVAL;VALUE=DURATION:PT1H
X-Robots-Tag:noindex
X-PUBLISHED-TTL:PT1H
BEGIN:VTIMEZONE
TZID:Europe/Paris
BEGIN:DAYLIGHT
TZOFFSETFROM:+0100
TZOFFSETTO:+0200
TZNAME:CEST
DTSTART:20250330T010000
END:DAYLIGHT
BEGIN:STANDARD
TZOFFSETFROM:+0200
TZOFFSETTO:+0100
TZNAME:CET
DTSTART:20251026T010000
END:STANDARD
BEGIN:DAYLIGHT
TZOFFSETFROM:+0100
TZOFFSETTO:+0200
TZNAME:CEST
DTSTART:20260329T010000
END:DAYLIGHT
BEGIN:STANDARD
TZOFFSETFROM:+0200
TZOFFSETTO:+0100
TZNAME:CET
DTSTART:20261025T010000
END:STANDARD
BEGIN:DAYLIGHT
TZOFFSETFROM:+0100
TZOFFSETTO:+0200
TZNAME:CEST
DTSTART:20270328T010000
END:DAYLIGHT
BEGIN:STANDARD
TZOFFSETFROM:+0200
TZOFFSETTO:+0100
TZNAME:CET
DTSTART:20271031T010000
END:STANDARD
END:VTIMEZONE
BEGIN:VEVENT
DTSTART;VALUE=DATE:20260425
DTEND;VALUE=DATE:20260427
DTSTAMP:20260426T011738
CREATED:20260408T081914Z
LAST-MODIFIED:20260408T081914Z
UID:3388-1777075200-1777247999@www.commerces-hem.fr
SUMMARY:🎮 Préparez vos manettes : Le tournoi Jackpoke arrive à Hem !
DESCRIPTION:La Esport Academy de Hem vous donne rendez-vous pour un week-end de compétition intense les 25 et 26 avril à la salle Dunant. Que vous soyez adepte de combos ou de sorties de ring\, venez prouver votre valeur ! \n🔥 Au programme : \n\n\nStreet Fighter & Tekken 8 \n\n\nSuper Smash Bros. Melee & Ultimate \n\n\n💰 En jeu : 640 € de cashprize à se partager ! \n⚠️ Attention : Seulement 64 places disponibles. Premier arrivé\, premier servi !
URL:https://www.commerces-hem.fr/evenement/%f0%9f%8e%ae-preparez-vos-manettes-le-tournoi-jackpoke-arrive-a-hem/
CATEGORIES:Adultes,Enfants
ATTACH;FMTTYPE=image/jpeg:https://www.commerces-hem.fr/wp-content/uploads/2026/04/slide-jackpoke-254x254-c-default.jpg
END:VEVENT
BEGIN:VEVENT
DTSTART;TZID=Europe/Paris:20260426T090000
DTEND;TZID=Europe/Paris:20260426T173000
DTSTAMP:20260426T011738
CREATED:20260408T082536Z
LAST-MODIFIED:20260408T082536Z
UID:3391-1777194000-1777224600@www.commerces-hem.fr
SUMMARY:🚗 Remontez le temps avec l'Exposition du Rétro Club Hémois !
DESCRIPTION:Le dimanche 26 avril\, le stade Dubus se transforme en véritable musée à ciel ouvert. Que vous soyez fan de chromes rutilants\, de motos vintage ou d’engins militaires et agricoles\, venez admirer des véhicules d’exception (tous de plus de 30 ans) ! \n🎸 Bien plus qu’une expo : Profitez d’une ambiance rétro avec un marché d’artisans\, des animations signées Universal Legacy et I Fit Good\, ainsi qu’un concert du Vintage Classic Rock Band. \n\n\nHoraires : 9h à 17h30 \n\n\nBonus Solidaire : 0\,50 € par entrée reversés aux Apprentis d’Auteuil. \n\n\nTarif : 3 € (Gratuit pour les -12 ans\, les chauffeurs de véhicules anciens et leur accompagnant).
URL:https://www.commerces-hem.fr/evenement/%f0%9f%9a%97-remontez-le-temps-avec-lexposition-du-retro-club-hemois/
CATEGORIES:Adultes,Enfants
ATTACH;FMTTYPE=image/jpeg:https://www.commerces-hem.fr/wp-content/uploads/2026/04/slide-expo-retro-club-254x254-c-default.jpg
END:VEVENT
END:VCALENDAR