BEGIN:VCALENDAR
VERSION:2.0
PRODID:-//Les commerçants d&#039;Hem J&#039;aime - ECPv6.15.20//NONSGML v1.0//EN
CALSCALE:GREGORIAN
METHOD:PUBLISH
X-ORIGINAL-URL:https://www.commerces-hem.fr
X-WR-CALDESC:Évènements pour Les commerçants d&#039;Hem J&#039;aime
REFRESH-INTERVAL;VALUE=DURATION:PT1H
X-Robots-Tag:noindex
X-PUBLISHED-TTL:PT1H
BEGIN:VTIMEZONE
TZID:Europe/Paris
BEGIN:DAYLIGHT
TZOFFSETFROM:+0100
TZOFFSETTO:+0200
TZNAME:CEST
DTSTART:20240331T010000
END:DAYLIGHT
BEGIN:STANDARD
TZOFFSETFROM:+0200
TZOFFSETTO:+0100
TZNAME:CET
DTSTART:20241027T010000
END:STANDARD
BEGIN:DAYLIGHT
TZOFFSETFROM:+0100
TZOFFSETTO:+0200
TZNAME:CEST
DTSTART:20250330T010000
END:DAYLIGHT
BEGIN:STANDARD
TZOFFSETFROM:+0200
TZOFFSETTO:+0100
TZNAME:CET
DTSTART:20251026T010000
END:STANDARD
BEGIN:DAYLIGHT
TZOFFSETFROM:+0100
TZOFFSETTO:+0200
TZNAME:CEST
DTSTART:20260329T010000
END:DAYLIGHT
BEGIN:STANDARD
TZOFFSETFROM:+0200
TZOFFSETTO:+0100
TZNAME:CET
DTSTART:20261025T010000
END:STANDARD
END:VTIMEZONE
BEGIN:VEVENT
DTSTART;TZID=Europe/Paris:20250306T193000
DTEND;TZID=Europe/Paris:20250306T213000
DTSTAMP:20260426T001556
CREATED:20250127T144108Z
LAST-MODIFIED:20250127T144200Z
UID:1257-1741289400-1741296600@www.commerces-hem.fr
SUMMARY:Accords littéraires et brassicoles - Les Tours du Malt
DESCRIPTION:La première édition de la soirée accords littéraires et brassicoles a été un franc succès ! C’est pour cela que nous vous proposons une deuxième édition\, cette fois sur le thème du roman. La soirée se déroulera le 6 mars prochain\, à partir de 19h30 👯\n\nMais\, comment ça se passe ?\n\nOn commence par des explications sur nos bières\, puis\, pendant la dégustation\, l’équipe de la librairie Les Lisières vous présente une sélection de livres sur le thème choisi\, lus et approuvés par leurs soins ✨\n\nLe bar reste ouvert\, la boutique également : tu pourras donc consommer sur place et à la maison. Les livres présentés sont eux aussi en vente ! 📚\n\n🎟️ Pour réserver\, rien de plus simple\, c’est juste ici :  https://www.billetweb.fr/bieres-et-romans (10€/personne)
URL:https://www.commerces-hem.fr/evenement/accords-litteraires-et-brassicoles-les-tours-du-malt/
LOCATION:Les Tours du Malt\, 36 Rue Braquaval\, Hem\, 59510\, France
CATEGORIES:Adultes
ATTACH;FMTTYPE=image/png:https://www.commerces-hem.fr/wp-content/uploads/2025/01/vignette-lisieres.png
ORGANIZER;CN="Les Tours du Malt":MAILTO:contact@lestoursdumalt.fr
END:VEVENT
BEGIN:VEVENT
DTSTART;TZID=Europe/Paris:20250308T200000
DTEND;TZID=Europe/Paris:20250308T223000
DTSTAMP:20260426T001556
CREATED:20241218T095639Z
LAST-MODIFIED:20241218T095729Z
UID:1080-1741464000-1741473000@www.commerces-hem.fr
SUMMARY:Michaël Gregorio – L’Odyssée de la voix
DESCRIPTION:Samedi 8 mars 2025 | 20h \nAprès une tournée triomphale et deux dates à Bercy\, Michaël Gregorio revient sur scène avec ses musiciens pour présenter son tout nouveau spectacle : L’Odyssée de la voix. \nUn voyage exceptionnel à travers la voix :\nDans ce show grandiose mêlant humour\, émotions et performances vocales\, Michaël Gregorio explore toutes les facettes de la voix humaine. De la variété au rap\, du rock au classique\, du jazz au death metal\, il nous emmène dans un univers musical éclectique et surprenant. Mais que se passe-t-il lorsque cette voix\, poussée à ses limites\, vacille ? L’aventure prend alors une tournure cinématographique\, revisitant les œuvres de Chaplin et les comédies musicales\, mêlant image et son avec virtuosité. \nUn spectacle unique où chansons et voix cultes se transforment pour notre plus grand enchantement ! \nCréation : Michaël Gregorio et Arnaud Lemort\nAvec : Michaël Gregorio et ses musiciens \nCe que dit la presse : \n\n« Une vraie rockstar. » – Le Parisien\n« Génie du travestissement vocal. » – Le Monde\n« Époustouflant et drôle. » – Le Figaro\n« Le plus rock des imitateurs. » – RTL\n\nUn rendez-vous incontournable pour les amateurs de talent\, d’humour et de musique !
URL:https://www.commerces-hem.fr/evenement/michael-gregorio-lodyssee-de-la-voix/
LOCATION:Zéphyr\, Rue du Tilleul\, HEM\, 59510\, France
CATEGORIES:Adultes,Spectacle,Zéphyr
ATTACH;FMTTYPE=image/jpeg:https://www.commerces-hem.fr/wp-content/uploads/2024/12/Michael-Gregorio-AFF.jpg
END:VEVENT
BEGIN:VEVENT
DTSTART;TZID=Europe/Paris:20250314T080000
DTEND;TZID=Europe/Paris:20250314T170000
DTSTAMP:20260426T001556
CREATED:20241218T100026Z
LAST-MODIFIED:20250117T105354Z
UID:1083-1741939200-1741971600@www.commerces-hem.fr
SUMMARY:« Un château de cartes » au Zéphyr
DESCRIPTION:La nouvelle création d’Hadrien Raccah \nUn dîner… qui tourne au vertige !\nAdam et Caroline accueillent Vincent et sa compagne pour une soirée tranquille. Mais dès le départ de leurs invités\, une crise de jalousie éclate entre Adam et Caroline. Alors qu’ils se disputent\, des bruits étranges se font entendre dans la maison. Et soudain\, Vincent réapparaît… sauf que tout a changé : cette fois\, Vincent est avec Caroline\, et c’est chez Adam qu’ils viennent dîner ! \nUn jeu de miroirs troublant et captivant qui brouille les repères et les certitudes dans une comédie habilement écrite et brillamment interprétée. \nDistribution : \n\nUne pièce de : Hadrien Raccah\nMise en scène : Serge Postigo\nAvec : Gérard Darmon\, Aure Atika\, Gilles Cohen\n\nProduction : Pascal Legros Organisation \nTarifs : \n\n1re catégorie : 66 €\n2nde catégorie : 62 €\n\nInformations pratiques : \n\nPlacement numéroté – jauge assise\nRéservations : voir lien ou au 03 76 01 02 00\n\nUne soirée où tout bascule dans l’inattendu. Ne manquez pas ce moment de théâtre audacieux et intrigant !
URL:https://www.commerces-hem.fr/evenement/un-chateau-de-cartes-au-zephyr/
LOCATION:Zéphyr\, Rue du Tilleul\, HEM\, 59510\, France
CATEGORIES:Adultes,Spectacle,Zéphyr
ATTACH;FMTTYPE=image/jpeg:https://www.commerces-hem.fr/wp-content/uploads/2024/12/PLO_UnChateauDeCartes_WEB_1200x1800-683x1024-1.jpg
END:VEVENT
BEGIN:VEVENT
DTSTART;TZID=Europe/Paris:20250318T190000
DTEND;TZID=Europe/Paris:20250318T223000
DTSTAMP:20260426T001556
CREATED:20250214T103714Z
LAST-MODIFIED:20250214T103858Z
UID:1402-1742324400-1742337000@www.commerces-hem.fr
SUMMARY:Club Cin’Hem’a : Projection de "Winter Break"
DESCRIPTION:🎬 Club Cin’Hem’a : Projection de « Winter Break » ❄️ \nLe Club Cin’Hem’a vous propose « Winter Break »\, le nouveau film d’Alexander Payne\, avec Paul Giamatti et Da’Vine Joy Randolph. Une comédie dramatique poignante à ne pas manquer ! \n📅 Mardi 18 mars🕖 19h📍 Espace Culturel Franchomme📞 Infos : 03 20 66 58 48 \nVenez partager un moment de cinéma unique ! 🍿✨
URL:https://www.commerces-hem.fr/evenement/club-cinhema-projection-de-winter-break/
LOCATION:Espace Culturel Franchomme
CATEGORIES:Adultes
ATTACH;FMTTYPE=image/webp:https://www.commerces-hem.fr/wp-content/uploads/2025/02/1477438.webp
END:VEVENT
BEGIN:VEVENT
DTSTART;VALUE=DATE:20250328
DTEND;VALUE=DATE:20250330
DTSTAMP:20260426T001556
CREATED:20250214T104315Z
LAST-MODIFIED:20250214T104341Z
UID:1405-1743120000-1743292799@www.commerces-hem.fr
SUMMARY:Week-end des Créateurs – Les Créa d'Abord
DESCRIPTION:🎨 Week-end des Créateurs – Les Créa d’Abord 🛍️ \nL’association Les Créa d’Abord vous invite à son Week-end des Créateurs ! Venez découvrir et soutenir 25 créateurs passionnés lors de cet événement unique. \n📅 Vendredi 28 mars ⏰ 17h – 21h📅 Samedi 29 mars ⏰ 10h – 19h (non-stop)📍 Espace Culturel Franchomme🎟 Entrée libre \nArt\, artisanat\, mode\, déco… Une belle occasion de faire le plein d’inspiration et de trouvailles originales ! ✨🎁
URL:https://www.commerces-hem.fr/evenement/week-end-des-createurs-les-crea-dabord/
LOCATION:Espace Culturel Franchomme
CATEGORIES:Adultes,Enfants
ATTACH;FMTTYPE=image/jpeg:https://www.commerces-hem.fr/wp-content/uploads/2025/02/2521696.jpg
END:VEVENT
BEGIN:VEVENT
DTSTART;TZID=Europe/Paris:20250328T193000
DTEND;TZID=Europe/Paris:20250328T230000
DTSTAMP:20260426T001556
CREATED:20250206T134525Z
LAST-MODIFIED:20250206T134525Z
UID:1387-1743190200-1743202800@www.commerces-hem.fr
SUMMARY:Blind-Test - Les Tours du Malt
DESCRIPTION:Deuxième édition de notre blind-test\, le 28 mars à 19h30\n\nLa première session a convaincu tout le monde\, alors on vous en propose une deuxième\, toujours aux côtés de Yohann expert en la matière  \n\n C’est sur réservation\, via ce lien (5€ par personne) : https://www.billetweb.fr/blind-test-2\n\nIl vous reste encore pas mal de temps pour vous entrainer \nOn espère vous y voir nombreux !
URL:https://www.commerces-hem.fr/evenement/blind-test-les-tours-du-malt/
LOCATION:Les Tours du Malt\, 36 Rue Braquaval\, Hem\, 59510\, France
CATEGORIES:Adultes
ATTACH;FMTTYPE=image/png:https://www.commerces-hem.fr/wp-content/uploads/2025/02/blind-test-2.png
ORGANIZER;CN="Les Tours du Malt":MAILTO:contact@lestoursdumalt.fr
END:VEVENT
BEGIN:VEVENT
DTSTART;TZID=Europe/Paris:20250329T143000
DTEND;TZID=Europe/Paris:20250329T190000
DTSTAMP:20260426T001556
CREATED:20250214T104605Z
LAST-MODIFIED:20250214T105058Z
UID:1408-1743258600-1743274800@www.commerces-hem.fr
SUMMARY:Carnaval de Hem 2025
DESCRIPTION:🎭 Carnaval de Hem 2025 – Venez faire la fête ! 🎊 \nEnfilez votre plus beau costume et rejoignez-nous pour une après-midi festive et haute en couleur ! 🎶🎺 \n📅 Samedi 29 mars🕝 Rendez-vous à 14h30🎭 Départ du défilé à 15h – Avenue Dunant📞 Infos : 03 20 66 58 09 \nMusique\, danse et bonne humeur seront au rendez-vous ! Venez nombreux célébrer le Carnaval de Hem ! 🎉🥳
URL:https://www.commerces-hem.fr/evenement/carnaval-de-hem-2025/
CATEGORIES:Adultes,Enfants,Spectacle
ATTACH;FMTTYPE=image/jpeg:https://www.commerces-hem.fr/wp-content/uploads/2025/02/11807077_4851293.jpg
END:VEVENT
END:VCALENDAR