BEGIN:VCALENDAR
VERSION:2.0
PRODID:-//Les commerçants d&#039;Hem J&#039;aime - ECPv6.15.20//NONSGML v1.0//EN
CALSCALE:GREGORIAN
METHOD:PUBLISH
X-WR-CALNAME:Les commerçants d&#039;Hem J&#039;aime
X-ORIGINAL-URL:https://www.commerces-hem.fr
X-WR-CALDESC:Évènements pour Les commerçants d&#039;Hem J&#039;aime
REFRESH-INTERVAL;VALUE=DURATION:PT1H
X-Robots-Tag:noindex
X-PUBLISHED-TTL:PT1H
BEGIN:VTIMEZONE
TZID:Europe/Paris
BEGIN:DAYLIGHT
TZOFFSETFROM:+0100
TZOFFSETTO:+0200
TZNAME:CEST
DTSTART:20240331T010000
END:DAYLIGHT
BEGIN:STANDARD
TZOFFSETFROM:+0200
TZOFFSETTO:+0100
TZNAME:CET
DTSTART:20241027T010000
END:STANDARD
BEGIN:DAYLIGHT
TZOFFSETFROM:+0100
TZOFFSETTO:+0200
TZNAME:CEST
DTSTART:20250330T010000
END:DAYLIGHT
BEGIN:STANDARD
TZOFFSETFROM:+0200
TZOFFSETTO:+0100
TZNAME:CET
DTSTART:20251026T010000
END:STANDARD
BEGIN:DAYLIGHT
TZOFFSETFROM:+0100
TZOFFSETTO:+0200
TZNAME:CEST
DTSTART:20260329T010000
END:DAYLIGHT
BEGIN:STANDARD
TZOFFSETFROM:+0200
TZOFFSETTO:+0100
TZNAME:CET
DTSTART:20261025T010000
END:STANDARD
END:VTIMEZONE
BEGIN:VEVENT
DTSTART;TZID=Europe/Paris:20251004T191500
DTEND;TZID=Europe/Paris:20251004T220000
DTSTAMP:20260425T145551
CREATED:20250912T081017Z
LAST-MODIFIED:20250912T081017Z
UID:1967-1759605300-1759615200@www.commerces-hem.fr
SUMMARY:Défilé des allumoirs
DESCRIPTION:La tradition des allumoirs ne s’est jamais éteinte à Hem. Chaque année\, lorsque les jours raccourcissent\, c’est l’occasion de participer à ce défilé convivial et musical pour tous les enfants. \nCette année\, 3 départs sont organisés \n\nGrand’Place avec arrivée à la Maison du Foot\nParvis Diligent avec arrivée à la Maison du Foot (attention : nouveau parcours – voir plan ci-joint)\nCentre Intergénérationnel de Beaumont avec arrivée au Centre Intergénérationnel de Beaumont\n\nPensez à vous inscrire à partir du 15 septembre dans les structures partenaires pour recevoir vos bonbons à l’arrivée : \n\nService Culture de la mairie\nCentre Social 3 Villes\nEspace de Vie Saint Exupéry\nCentre Intergénérationnel de Beaumont\nAJTF\n\nAllumoirs\nSamedi 4 octobre à 19h15\nRens. 03 20 66 58 09
URL:https://www.commerces-hem.fr/evenement/defile-des-allumoirs/
CATEGORIES:Adultes,Enfants
ATTACH;FMTTYPE=image/jpeg:https://www.commerces-hem.fr/wp-content/uploads/2025/09/WEBAFFICHE-les-Allumoirs-2025-01.jpg
END:VEVENT
BEGIN:VEVENT
DTSTART;TZID=Europe/Paris:20251011T110000
DTEND;TZID=Europe/Paris:20251011T150000
DTSTAMP:20260425T145551
CREATED:20251003T132743Z
LAST-MODIFIED:20251003T132743Z
UID:1998-1760180400-1760194800@www.commerces-hem.fr
SUMMARY:Fête de la bière
DESCRIPTION:Rejoignez-nous pour un moment convivial où petits et grands trouveront leur bonheur :\n 6 brasseries réunies pour vous faire découvrir leurs créations Une recette de bière unique créée par l’ensemble des brasseries Des jeux et animations pour toute la famille Maquillage pour enfants Un concert live pour ambiancer la journée\nUne occasion parfaite pour se retrouver\, partager et célébrer notre boisson préférée !\nRendez-vous à la ferme Braquaval le 11 octobre à partir de 11h Entrée libre et gratuite !\nOn vous attend nombreux pour fêter ça ensemble ! 
URL:https://www.commerces-hem.fr/evenement/fete-de-la-biere/
LOCATION:Les Tours du Malt\, 36 Rue Braquaval\, Hem\, 59510\, France
CATEGORIES:Adultes
ATTACH;FMTTYPE=image/jpeg:https://www.commerces-hem.fr/wp-content/uploads/2025/10/union-3.jpg
ORGANIZER;CN="Les Tours du Malt":MAILTO:contact@lestoursdumalt.fr
END:VEVENT
BEGIN:VEVENT
DTSTART;TZID=Europe/Paris:20251012T140000
DTEND;TZID=Europe/Paris:20251012T170000
DTSTAMP:20260425T145551
CREATED:20250911T152737Z
LAST-MODIFIED:20250912T075400Z
UID:1956-1760277600-1760288400@www.commerces-hem.fr
SUMMARY:L'Union des commerçants de HEM organise son premier loto !
DESCRIPTION:De nombreux lots :\n+500€ en bons d’achats\n+1 vélo électrique\n+1 switch2\n+1 air fryer\n+1 machine à coudre\n+1 séjour au puy du fou \n+ 4000€ de lots ! \nA partir de 14h salle dunant.
URL:https://www.commerces-hem.fr/evenement/lunion-des-commercants-de-hem-organise-son-premier-loto/
CATEGORIES:Adultes,Enfants
ATTACH;FMTTYPE=image/png:https://www.commerces-hem.fr/wp-content/uploads/2025/07/v2-site-LOTO-Bingo-de-lUnion-des-commercants-de-Hem-1200-x-550-px.png
END:VEVENT
BEGIN:VEVENT
DTSTART;VALUE=DATE:20251013
DTEND;VALUE=DATE:20251020
DTSTAMP:20260425T145551
CREATED:20251003T131747Z
LAST-MODIFIED:20251003T131833Z
UID:1989-1760313600-1760918399@www.commerces-hem.fr
SUMMARY:Semaine Bleue
DESCRIPTION:La Ville de Hem et ses partenaires mettent nos aînés à l’honneur le temps d’une semaine de rendez-vous festifs et conviviaux. \n\n\n\n\nLe dynamisme de nos seniors n’est plus à prouver. Le 3e âge dure de plus en plus longtemps et ce public est toujours plus avide de rencontres et de sorties. La semaine bleue est le moment idéal pour faire rimer âge et partage. \nAinsi\, un après-midi à Sainte Catherine Les Arras ou encore une marche au départ de la place sont organisés. Retrouvez également des conférences et des débats sur des sujets variés\, des ateliers pour mettre la main à la pâte : pâtisserie\, sculpture… La semaine bleue permet également de se retrouver autour de jeux ou d’un cinéma intergénérationnels\, d’une conférence\, d’un repas convivial ou d’un loto goûter. Côté grands rendez-vous au Zéphyr\, ne manquez pas le traditionnel banquet des aînés dimanche 19 octobre (gratuit\nsur inscription)\, et le spectacle hommage au Grand Jacques\, « La Promesse Brel » dimanche 9 novembre au Zéphyr.
URL:https://www.commerces-hem.fr/evenement/semaine-bleue/
LOCATION:Zéphyr\, Rue du Tilleul\, HEM\, 59510\, France
CATEGORIES:Adultes,Enfants,Spectacle,Zéphyr
ATTACH;FMTTYPE=image/jpeg:https://www.commerces-hem.fr/wp-content/uploads/2025/10/semaine-bleue-slide-254x254-c-default.jpg
END:VEVENT
BEGIN:VEVENT
DTSTART;TZID=Europe/Paris:20251016T190000
DTEND;TZID=Europe/Paris:20251016T210000
DTSTAMP:20260425T145551
CREATED:20251003T132929Z
LAST-MODIFIED:20251003T132929Z
UID:2000-1760641200-1760648400@www.commerces-hem.fr
SUMMARY:Tout à l'aveugle
DESCRIPTION:Venez tester vos sens lors d’une soirée dégustation à l’aveugle !\nPour cette édition\, vous aurez l’occasion de déguster des bières… mais aussi des fromages ! \nVous pourrez compter sur Hervé des @ToursduMalt et Sébastien @lecompoirdaristee pour animer la soirée avec passion !\nOn se retrouve à la brasserie le jeudi 16 octobre de 19h à 21h 30€ par personnes\nLes places sont limitées\, réserve vite la tienne !https://www.billetweb.fr/tout-a-laveugle\nÀ très vite !
URL:https://www.commerces-hem.fr/evenement/tout-a-laveugle/
LOCATION:Les Tours du Malt\, 36 Rue Braquaval\, Hem\, 59510\, France
CATEGORIES:Adultes
ATTACH;FMTTYPE=image/jpeg:https://www.commerces-hem.fr/wp-content/uploads/2025/10/555432683_1328213615850838_6668211194101886510_n.jpg
ORGANIZER;CN="Les Tours du Malt":MAILTO:contact@lestoursdumalt.fr
END:VEVENT
BEGIN:VEVENT
DTSTART;TZID=Europe/Paris:20251019T113000
DTEND;TZID=Europe/Paris:20251019T180000
DTSTAMP:20260425T145551
CREATED:20250827T131844Z
LAST-MODIFIED:20250827T131844Z
UID:1947-1760873400-1760896800@www.commerces-hem.fr
SUMMARY:Banquet des aînés 2025
DESCRIPTION:Dimanche 19 octobre\, la Ville de Hem invite ses seniors au traditionnel banquet des aînés qui aura lieu au Zéphyr. Inscription en ligne. \nLes personnes concernées ont normalement reçu un courrier d’invitation. Si ce n’est pas le cas\, n’hésitez pas à vous rapprocher du CCAS avec une pièce d’identité et un justificatif de domicile. \nPas de panique\, la démarche est très simple. Il suffit de cliquer sur le lien ci-dessous pour s’inscrire. Bien entendu\, c’est gratuit. \nBesoin d’aide ? des permanences sont organisées en mairie pour vous aiguiller les jeudis 28 août en mairie et le jeudi 4 septembre au CIB de 9h à 12h. \nRappel : le banquet des aînés est ouvert à tous les Hémois âgés d’au moins 71 ans dans l’année. \nRendez-vous le 19 octobre!
URL:https://www.commerces-hem.fr/evenement/banquet-des-aines-2025/
LOCATION:Zéphyr\, Rue du Tilleul\, HEM\, 59510\, France
CATEGORIES:Adultes,Zéphyr
ATTACH;FMTTYPE=image/jpeg:https://www.commerces-hem.fr/wp-content/uploads/2025/08/20240610-banquet-des-aines-1200x1000px-56.jpg
END:VEVENT
BEGIN:VEVENT
DTSTART;TZID=Europe/Paris:20251031T170000
DTEND;TZID=Europe/Paris:20251031T210000
DTSTAMP:20260425T145551
CREATED:20251003T132217Z
LAST-MODIFIED:20251003T132217Z
UID:1995-1761930000-1761944400@www.commerces-hem.fr
SUMMARY:Halloween 2025
DESCRIPTION:Halloween évolue cette année avec un événement pour gentiment se faire peur. Par petits groupes\, sillonnez le parc de la mairie et la forêt urbaine attenante au crépuscule pour des balades contées avec la Compagnie des Cendres. De 17h30 à 19h\, au rythme d’un départ toutes les 15 minutes\, les enfants de 3 à 8 ans parcourent le chemin de la petite frousse pour des histoires adaptées garanties sans cauchemar. De 19h45 à 21h45\, place au grand frisson avec des histoires pour les plus grands dès 8 ans\, pour s’amuser à frissonner. À l’issue de chaque parcours\, place au spectacle sur le stade Dubus ! Nul besoin de le préciser\, mais le déguisement est de rigueur pour les enfants\, comme pour les parents ! Chaque enfant muni d’un billet se verra également remettre un sachet de friandises et parents comme enfants pourront partager un bol de soupe… à la citrouille. \nHalloween\nVendredi 31 octobre à partir de 17h (petite frousse) et 19h45 (grand frisson) dans le parc de la mairie\, accès par la rue de Beaumont\nGratuit sur inscriptions sur ville-hem.fr (à partir du 6 octobre) et au Point Information Jeunesse\nRéservé aux enfants hémois ou scolarisés à Hem
URL:https://www.commerces-hem.fr/evenement/halloween-2025/
CATEGORIES:Adultes,Enfants
ATTACH;FMTTYPE=image/jpeg:https://www.commerces-hem.fr/wp-content/uploads/2025/10/Halloween.-SITE-INTERNET-2025-254x254-c-default.jpg
END:VEVENT
END:VCALENDAR