BEGIN:VCALENDAR
VERSION:2.0
PRODID:-//Les commerçants d&#039;Hem J&#039;aime - ECPv6.15.20//NONSGML v1.0//EN
CALSCALE:GREGORIAN
METHOD:PUBLISH
X-ORIGINAL-URL:https://www.commerces-hem.fr
X-WR-CALDESC:Évènements pour Les commerçants d&#039;Hem J&#039;aime
REFRESH-INTERVAL;VALUE=DURATION:PT1H
X-Robots-Tag:noindex
X-PUBLISHED-TTL:PT1H
BEGIN:VTIMEZONE
TZID:Europe/Paris
BEGIN:DAYLIGHT
TZOFFSETFROM:+0100
TZOFFSETTO:+0200
TZNAME:CEST
DTSTART:20240331T010000
END:DAYLIGHT
BEGIN:STANDARD
TZOFFSETFROM:+0200
TZOFFSETTO:+0100
TZNAME:CET
DTSTART:20241027T010000
END:STANDARD
BEGIN:DAYLIGHT
TZOFFSETFROM:+0100
TZOFFSETTO:+0200
TZNAME:CEST
DTSTART:20250330T010000
END:DAYLIGHT
BEGIN:STANDARD
TZOFFSETFROM:+0200
TZOFFSETTO:+0100
TZNAME:CET
DTSTART:20251026T010000
END:STANDARD
BEGIN:DAYLIGHT
TZOFFSETFROM:+0100
TZOFFSETTO:+0200
TZNAME:CEST
DTSTART:20260329T010000
END:DAYLIGHT
BEGIN:STANDARD
TZOFFSETFROM:+0200
TZOFFSETTO:+0100
TZNAME:CET
DTSTART:20261025T010000
END:STANDARD
END:VTIMEZONE
BEGIN:VEVENT
DTSTART;TZID=Europe/Paris:20250207T200000
DTEND;TZID=Europe/Paris:20250207T230000
DTSTAMP:20260426T023915
CREATED:20241218T095247Z
LAST-MODIFIED:20241218T095421Z
UID:1077-1738958400-1738969200@www.commerces-hem.fr
SUMMARY:« Le bracelet » au Zéphyr
DESCRIPTION:Le Bracelet\nVendredi 7 février 2025 | 20h \nLa nouvelle comédie signée Isabelle Mergault\, un bijou d’humour et d’émotions ! \nL’histoire :\nAprès 18 ans derrière les barreaux\, André retrouve sa maison\, avec un bracelet électronique à la cheville. Mais son retour est loin de susciter la joie : sa femme ne supporte plus sa présence\, sa belle-mère s’incruste\, et sa fille de 20 ans\, qu’il n’a jamais vue grandir\, refuse de l’appeler « papa ».\nAndré mérite-t-il ce rejet ? Était-il vraiment coupable ou innocent ? Et pourquoi ce mystérieux homme à tout faire débarque-t-il pile au moment de son retour ? \nDistribution : \n\nTexte : Isabelle Mergault\nMise en scène : Serge Postigo\nAvec : Isabelle Mergault\, Yvan Le Bolloc’h\, Virginie Pradal\, Lionel Laget\, Ninon Moreau\n\nÉquipe artistique : \n\nDécors : Stéfanie Jarre (assistée de Daphné Roulot)\nCostumes : Aurore Pierre\nLumières : Jean-Philippe Bourdon\nVidéo : Sébastien Mizermont\nMusiques : Hervé Devolder\nAccessoires : Christophe Guillaumin\nAssistance à la mise en scène : Lili Franck\n\nUne production : Pascal Legros Organisation\, en accord avec le Théâtre des Nouveautés. \nUn spectacle où l’humour et les secrets se mêlent dans un huis clos explosif ! \nRéservez dès maintenant votre soirée théâtre !
URL:https://www.commerces-hem.fr/evenement/le-bracelet-au-zephyr/
LOCATION:Zéphyr\, Rue du Tilleul\, HEM\, 59510\, France
CATEGORIES:Adultes,Spectacle,Zéphyr
ATTACH;FMTTYPE=image/jpeg:https://www.commerces-hem.fr/wp-content/uploads/2024/12/AFFICHE-PLO_Bracelet-v3_web_1200x1800-683x1024-1.jpg
END:VEVENT
END:VCALENDAR