BEGIN:VCALENDAR
VERSION:2.0
PRODID:-//Les commerçants d&#039;Hem J&#039;aime - ECPv6.15.20//NONSGML v1.0//EN
CALSCALE:GREGORIAN
METHOD:PUBLISH
X-ORIGINAL-URL:https://www.commerces-hem.fr
X-WR-CALDESC:Évènements pour Les commerçants d&#039;Hem J&#039;aime
REFRESH-INTERVAL;VALUE=DURATION:PT1H
X-Robots-Tag:noindex
X-PUBLISHED-TTL:PT1H
BEGIN:VTIMEZONE
TZID:Europe/Paris
BEGIN:DAYLIGHT
TZOFFSETFROM:+0100
TZOFFSETTO:+0200
TZNAME:CEST
DTSTART:20240331T010000
END:DAYLIGHT
BEGIN:STANDARD
TZOFFSETFROM:+0200
TZOFFSETTO:+0100
TZNAME:CET
DTSTART:20241027T010000
END:STANDARD
BEGIN:DAYLIGHT
TZOFFSETFROM:+0100
TZOFFSETTO:+0200
TZNAME:CEST
DTSTART:20250330T010000
END:DAYLIGHT
BEGIN:STANDARD
TZOFFSETFROM:+0200
TZOFFSETTO:+0100
TZNAME:CET
DTSTART:20251026T010000
END:STANDARD
BEGIN:DAYLIGHT
TZOFFSETFROM:+0100
TZOFFSETTO:+0200
TZNAME:CEST
DTSTART:20260329T010000
END:DAYLIGHT
BEGIN:STANDARD
TZOFFSETFROM:+0200
TZOFFSETTO:+0100
TZNAME:CET
DTSTART:20261025T010000
END:STANDARD
END:VTIMEZONE
BEGIN:VEVENT
DTSTART;TZID=Europe/Paris:20250306T193000
DTEND;TZID=Europe/Paris:20250306T213000
DTSTAMP:20260426T012425
CREATED:20250127T144108Z
LAST-MODIFIED:20250127T144200Z
UID:1257-1741289400-1741296600@www.commerces-hem.fr
SUMMARY:Accords littéraires et brassicoles - Les Tours du Malt
DESCRIPTION:La première édition de la soirée accords littéraires et brassicoles a été un franc succès ! C’est pour cela que nous vous proposons une deuxième édition\, cette fois sur le thème du roman. La soirée se déroulera le 6 mars prochain\, à partir de 19h30 👯\n\nMais\, comment ça se passe ?\n\nOn commence par des explications sur nos bières\, puis\, pendant la dégustation\, l’équipe de la librairie Les Lisières vous présente une sélection de livres sur le thème choisi\, lus et approuvés par leurs soins ✨\n\nLe bar reste ouvert\, la boutique également : tu pourras donc consommer sur place et à la maison. Les livres présentés sont eux aussi en vente ! 📚\n\n🎟️ Pour réserver\, rien de plus simple\, c’est juste ici :  https://www.billetweb.fr/bieres-et-romans (10€/personne)
URL:https://www.commerces-hem.fr/evenement/accords-litteraires-et-brassicoles-les-tours-du-malt/
LOCATION:Les Tours du Malt\, 36 Rue Braquaval\, Hem\, 59510\, France
CATEGORIES:Adultes
ATTACH;FMTTYPE=image/png:https://www.commerces-hem.fr/wp-content/uploads/2025/01/vignette-lisieres.png
ORGANIZER;CN="Les Tours du Malt":MAILTO:contact@lestoursdumalt.fr
END:VEVENT
END:VCALENDAR