BEGIN:VCALENDAR
VERSION:2.0
PRODID:-//Les commerçants d&#039;Hem J&#039;aime - ECPv6.15.20//NONSGML v1.0//EN
CALSCALE:GREGORIAN
METHOD:PUBLISH
X-ORIGINAL-URL:https://www.commerces-hem.fr
X-WR-CALDESC:Évènements pour Les commerçants d&#039;Hem J&#039;aime
REFRESH-INTERVAL;VALUE=DURATION:PT1H
X-Robots-Tag:noindex
X-PUBLISHED-TTL:PT1H
BEGIN:VTIMEZONE
TZID:Europe/Paris
BEGIN:DAYLIGHT
TZOFFSETFROM:+0100
TZOFFSETTO:+0200
TZNAME:CEST
DTSTART:20240331T010000
END:DAYLIGHT
BEGIN:STANDARD
TZOFFSETFROM:+0200
TZOFFSETTO:+0100
TZNAME:CET
DTSTART:20241027T010000
END:STANDARD
BEGIN:DAYLIGHT
TZOFFSETFROM:+0100
TZOFFSETTO:+0200
TZNAME:CEST
DTSTART:20250330T010000
END:DAYLIGHT
BEGIN:STANDARD
TZOFFSETFROM:+0200
TZOFFSETTO:+0100
TZNAME:CET
DTSTART:20251026T010000
END:STANDARD
BEGIN:DAYLIGHT
TZOFFSETFROM:+0100
TZOFFSETTO:+0200
TZNAME:CEST
DTSTART:20260329T010000
END:DAYLIGHT
BEGIN:STANDARD
TZOFFSETFROM:+0200
TZOFFSETTO:+0100
TZNAME:CET
DTSTART:20261025T010000
END:STANDARD
END:VTIMEZONE
BEGIN:VEVENT
DTSTART;VALUE=DATE:20250328
DTEND;VALUE=DATE:20250330
DTSTAMP:20260426T012424
CREATED:20250214T104315Z
LAST-MODIFIED:20250214T104341Z
UID:1405-1743120000-1743292799@www.commerces-hem.fr
SUMMARY:Week-end des Créateurs – Les Créa d'Abord
DESCRIPTION:🎨 Week-end des Créateurs – Les Créa d’Abord 🛍️ \nL’association Les Créa d’Abord vous invite à son Week-end des Créateurs ! Venez découvrir et soutenir 25 créateurs passionnés lors de cet événement unique. \n📅 Vendredi 28 mars ⏰ 17h – 21h📅 Samedi 29 mars ⏰ 10h – 19h (non-stop)📍 Espace Culturel Franchomme🎟 Entrée libre \nArt\, artisanat\, mode\, déco… Une belle occasion de faire le plein d’inspiration et de trouvailles originales ! ✨🎁
URL:https://www.commerces-hem.fr/evenement/week-end-des-createurs-les-crea-dabord/
LOCATION:Espace Culturel Franchomme
CATEGORIES:Adultes,Enfants
ATTACH;FMTTYPE=image/jpeg:https://www.commerces-hem.fr/wp-content/uploads/2025/02/2521696.jpg
END:VEVENT
BEGIN:VEVENT
DTSTART;TZID=Europe/Paris:20250328T193000
DTEND;TZID=Europe/Paris:20250328T230000
DTSTAMP:20260426T012424
CREATED:20250206T134525Z
LAST-MODIFIED:20250206T134525Z
UID:1387-1743190200-1743202800@www.commerces-hem.fr
SUMMARY:Blind-Test - Les Tours du Malt
DESCRIPTION:Deuxième édition de notre blind-test\, le 28 mars à 19h30\n\nLa première session a convaincu tout le monde\, alors on vous en propose une deuxième\, toujours aux côtés de Yohann expert en la matière  \n\n C’est sur réservation\, via ce lien (5€ par personne) : https://www.billetweb.fr/blind-test-2\n\nIl vous reste encore pas mal de temps pour vous entrainer \nOn espère vous y voir nombreux !
URL:https://www.commerces-hem.fr/evenement/blind-test-les-tours-du-malt/
LOCATION:Les Tours du Malt\, 36 Rue Braquaval\, Hem\, 59510\, France
CATEGORIES:Adultes
ATTACH;FMTTYPE=image/png:https://www.commerces-hem.fr/wp-content/uploads/2025/02/blind-test-2.png
ORGANIZER;CN="Les Tours du Malt":MAILTO:contact@lestoursdumalt.fr
END:VEVENT
END:VCALENDAR