BEGIN:VCALENDAR
VERSION:2.0
PRODID:-//Les commerçants d&#039;Hem J&#039;aime - ECPv6.15.20//NONSGML v1.0//EN
CALSCALE:GREGORIAN
METHOD:PUBLISH
X-ORIGINAL-URL:https://www.commerces-hem.fr
X-WR-CALDESC:Évènements pour Les commerçants d&#039;Hem J&#039;aime
REFRESH-INTERVAL;VALUE=DURATION:PT1H
X-Robots-Tag:noindex
X-PUBLISHED-TTL:PT1H
BEGIN:VTIMEZONE
TZID:Europe/Paris
BEGIN:DAYLIGHT
TZOFFSETFROM:+0100
TZOFFSETTO:+0200
TZNAME:CEST
DTSTART:20240331T010000
END:DAYLIGHT
BEGIN:STANDARD
TZOFFSETFROM:+0200
TZOFFSETTO:+0100
TZNAME:CET
DTSTART:20241027T010000
END:STANDARD
BEGIN:DAYLIGHT
TZOFFSETFROM:+0100
TZOFFSETTO:+0200
TZNAME:CEST
DTSTART:20250330T010000
END:DAYLIGHT
BEGIN:STANDARD
TZOFFSETFROM:+0200
TZOFFSETTO:+0100
TZNAME:CET
DTSTART:20251026T010000
END:STANDARD
BEGIN:DAYLIGHT
TZOFFSETFROM:+0100
TZOFFSETTO:+0200
TZNAME:CEST
DTSTART:20260329T010000
END:DAYLIGHT
BEGIN:STANDARD
TZOFFSETFROM:+0200
TZOFFSETTO:+0100
TZNAME:CET
DTSTART:20261025T010000
END:STANDARD
END:VTIMEZONE
BEGIN:VEVENT
DTSTART;TZID=Europe/Paris:20250404T193000
DTEND;TZID=Europe/Paris:20250404T220000
DTSTAMP:20260426T012426
CREATED:20250326T155050Z
LAST-MODIFIED:20250327T140649Z
UID:1485-1743795000-1743804000@www.commerces-hem.fr
SUMMARY:Tournoi de 421 - Les Tours du Malt
DESCRIPTION:On t’invite à un tournoi de 421 avec des plateaux de jeux à notre effigie \nLes meilleurs d’entre vous pourraient repartir avec un exemplaire… ✨\nBien-sûr\, le bar reste ouvert pour l’occasion !\nGratuit – sans réservation – dès 19h30
URL:https://www.commerces-hem.fr/evenement/tournoi-de-421-les-tours-du-malt/
LOCATION:Les Tours du Malt\, 36 Rue Braquaval\, Hem\, 59510\, France
CATEGORIES:Adultes,Enfants
ATTACH;FMTTYPE=image/png:https://www.commerces-hem.fr/wp-content/uploads/2025/03/421.png
ORGANIZER;CN="Les Tours du Malt":MAILTO:contact@lestoursdumalt.fr
END:VEVENT
END:VCALENDAR