BEGIN:VCALENDAR
VERSION:2.0
PRODID:-//Les commerçants d&#039;Hem J&#039;aime - ECPv6.15.20//NONSGML v1.0//EN
CALSCALE:GREGORIAN
METHOD:PUBLISH
X-ORIGINAL-URL:https://www.commerces-hem.fr
X-WR-CALDESC:Évènements pour Les commerçants d&#039;Hem J&#039;aime
REFRESH-INTERVAL;VALUE=DURATION:PT1H
X-Robots-Tag:noindex
X-PUBLISHED-TTL:PT1H
BEGIN:VTIMEZONE
TZID:Europe/Paris
BEGIN:DAYLIGHT
TZOFFSETFROM:+0100
TZOFFSETTO:+0200
TZNAME:CEST
DTSTART:20240331T010000
END:DAYLIGHT
BEGIN:STANDARD
TZOFFSETFROM:+0200
TZOFFSETTO:+0100
TZNAME:CET
DTSTART:20241027T010000
END:STANDARD
BEGIN:DAYLIGHT
TZOFFSETFROM:+0100
TZOFFSETTO:+0200
TZNAME:CEST
DTSTART:20250330T010000
END:DAYLIGHT
BEGIN:STANDARD
TZOFFSETFROM:+0200
TZOFFSETTO:+0100
TZNAME:CET
DTSTART:20251026T010000
END:STANDARD
BEGIN:DAYLIGHT
TZOFFSETFROM:+0100
TZOFFSETTO:+0200
TZNAME:CEST
DTSTART:20260329T010000
END:DAYLIGHT
BEGIN:STANDARD
TZOFFSETFROM:+0200
TZOFFSETTO:+0100
TZNAME:CET
DTSTART:20261025T010000
END:STANDARD
END:VTIMEZONE
BEGIN:VEVENT
DTSTART;TZID=Europe/Paris:20250419T160000
DTEND;TZID=Europe/Paris:20250419T220000
DTSTAMP:20260426T002106
CREATED:20250409T090401Z
LAST-MODIFIED:20250409T140129Z
UID:1583-1745078400-1745100000@www.commerces-hem.fr
SUMMARY:CHASSE À LA BIÈRE GÉANTE 
DESCRIPTION:La (BIG) chasse \nVous en rêviez ? On l’a fait ! Une chasse aux œufs… mais version adulte ! Préparez-vous à un après-midi de fun\, de suspense et de bonne humeur avec notre grande chasse aux bières !\n Le principe ? Nous avons caché des centaines de bières un peu partout dans la prairie derrière la brasserie… à vous de les retrouver !\nMais surtout\, une seule bouteille est en OR\, et celle ou celui qui met la main dessus remporte une bière en 25cl offerte par jour d’ouverture du bar pendant un an ! OUI\, vous avez bien lu. Un an. \n PLACES LIMITÉES À 100 PARTICIPANTS\npour participer\, il faut OBLIGATOIREMENT réserver ta place via ce lien (10€/personne) : https://www.billetweb.fr/la-big-chasse-a-la-biere\n Et après la chasse ? On poursuit la soirée avec un DJ SET jusqu’à 22h et un food-truck dès 19h pour régaler tout le monde !\n samedi 19 avril\n 36 rue Braquaval\, 59510 – Hem\n 10€ / personne\n PLACES LIMITÉES À 100 PARTICIPANTS – RÉSERVATION OBLIGATOIRE\net franchement\, pourquoi hésiter ?
URL:https://www.commerces-hem.fr/evenement/chasse-a-la-biere-geante/
LOCATION:Les Tours du Malt\, 36 Rue Braquaval\, Hem\, 59510\, France
CATEGORIES:Adultes
ATTACH;FMTTYPE=image/png:https://www.commerces-hem.fr/wp-content/uploads/2025/04/paques-Facebook.png
ORGANIZER;CN="Les Tours du Malt":MAILTO:contact@lestoursdumalt.fr
END:VEVENT
END:VCALENDAR