BEGIN:VCALENDAR
VERSION:2.0
PRODID:-//Les commerçants d&#039;Hem J&#039;aime - ECPv6.15.20//NONSGML v1.0//EN
CALSCALE:GREGORIAN
METHOD:PUBLISH
X-WR-CALNAME:Les commerçants d&#039;Hem J&#039;aime
X-ORIGINAL-URL:https://www.commerces-hem.fr
X-WR-CALDESC:Évènements pour Les commerçants d&#039;Hem J&#039;aime
REFRESH-INTERVAL;VALUE=DURATION:PT1H
X-Robots-Tag:noindex
X-PUBLISHED-TTL:PT1H
BEGIN:VTIMEZONE
TZID:Europe/Paris
BEGIN:DAYLIGHT
TZOFFSETFROM:+0100
TZOFFSETTO:+0200
TZNAME:CEST
DTSTART:20240331T010000
END:DAYLIGHT
BEGIN:STANDARD
TZOFFSETFROM:+0200
TZOFFSETTO:+0100
TZNAME:CET
DTSTART:20241027T010000
END:STANDARD
BEGIN:DAYLIGHT
TZOFFSETFROM:+0100
TZOFFSETTO:+0200
TZNAME:CEST
DTSTART:20250330T010000
END:DAYLIGHT
BEGIN:STANDARD
TZOFFSETFROM:+0200
TZOFFSETTO:+0100
TZNAME:CET
DTSTART:20251026T010000
END:STANDARD
BEGIN:DAYLIGHT
TZOFFSETFROM:+0100
TZOFFSETTO:+0200
TZNAME:CEST
DTSTART:20260329T010000
END:DAYLIGHT
BEGIN:STANDARD
TZOFFSETFROM:+0200
TZOFFSETTO:+0100
TZNAME:CET
DTSTART:20261025T010000
END:STANDARD
END:VTIMEZONE
BEGIN:VEVENT
DTSTART;VALUE=DATE:20250604
DTEND;VALUE=DATE:20250607
DTSTAMP:20260425T214348
CREATED:20250331T092857Z
LAST-MODIFIED:20250331T092857Z
UID:1546-1748995200-1749254399@www.commerces-hem.fr
SUMMARY:Inscriptions Riverains – Braderie de Hem
DESCRIPTION:📢 Inscriptions Riverains – Braderie Hem en Fête (4 au 6 juin 2025)\nAvis aux habitants de Hem ! Les réservations pour la braderie de Hem en Fête approchent. Du mercredi 4 au vendredi 6 juin\, les riverains peuvent réserver leur emplacement devant leur domicile. \n📅 Dates d’inscription : \n\n\nRiverains : du 4 au 6 juin \n\n\nHémois non riverains : du 10 au 12 juin \n\n\nExtérieurs : à partir du 13 juin \n\n\n📍 Où s’inscrire ? \n\n\nEn ligne : dès 9h le premier jour \n\n\nEn mairie : de 9h à 12h et de 13h à 17h30 \n\n\nNe manquez pas cette occasion de participer à l’un des événements incontournables de la ville ! 🎉🛍️
URL:https://www.commerces-hem.fr/evenement/inscriptions-riverains-braderie-de-hem/
CATEGORIES:Adultes,Enfants
ATTACH;FMTTYPE=image/jpeg:https://www.commerces-hem.fr/wp-content/uploads/2025/03/11879344_Checklist.jpg
END:VEVENT
END:VCALENDAR