BEGIN:VCALENDAR
VERSION:2.0
PRODID:-//Les commerçants d&#039;Hem J&#039;aime - ECPv6.15.20//NONSGML v1.0//EN
CALSCALE:GREGORIAN
METHOD:PUBLISH
X-ORIGINAL-URL:https://www.commerces-hem.fr
X-WR-CALDESC:Évènements pour Les commerçants d&#039;Hem J&#039;aime
REFRESH-INTERVAL;VALUE=DURATION:PT1H
X-Robots-Tag:noindex
X-PUBLISHED-TTL:PT1H
BEGIN:VTIMEZONE
TZID:Europe/Paris
BEGIN:DAYLIGHT
TZOFFSETFROM:+0100
TZOFFSETTO:+0200
TZNAME:CEST
DTSTART:20240331T010000
END:DAYLIGHT
BEGIN:STANDARD
TZOFFSETFROM:+0200
TZOFFSETTO:+0100
TZNAME:CET
DTSTART:20241027T010000
END:STANDARD
BEGIN:DAYLIGHT
TZOFFSETFROM:+0100
TZOFFSETTO:+0200
TZNAME:CEST
DTSTART:20250330T010000
END:DAYLIGHT
BEGIN:STANDARD
TZOFFSETFROM:+0200
TZOFFSETTO:+0100
TZNAME:CET
DTSTART:20251026T010000
END:STANDARD
BEGIN:DAYLIGHT
TZOFFSETFROM:+0100
TZOFFSETTO:+0200
TZNAME:CEST
DTSTART:20260329T010000
END:DAYLIGHT
BEGIN:STANDARD
TZOFFSETFROM:+0200
TZOFFSETTO:+0100
TZNAME:CET
DTSTART:20261025T010000
END:STANDARD
END:VTIMEZONE
BEGIN:VEVENT
DTSTART;TZID=Europe/Paris:20250718T190000
DTEND;TZID=Europe/Paris:20250718T190000
DTSTAMP:20260425T202114
CREATED:20250630T125820Z
LAST-MODIFIED:20250630T125820Z
UID:1704-1752865200-1752865200@www.commerces-hem.fr
SUMMARY:Les Tours du Malt : Une Tombola avec Chaque Consommation !
DESCRIPTION:Les Tours du Malt organisent une tombola le 18 juillet 2025 à partir de 19h où chaque consommation au bar vous donne une chance de gagner. \nDix gagnants seront tirés au sort et remporteront 10 bières de 25cl chacun\, à déguster sur place le jour même ou lors d’une prochaine visite. Les tirages au sort auront lieu entre 20h et 21h. Pour remporter un lot\, votre présence est indispensable lors du tirage. \nL’entrée est gratuite et l’événement est ouvert à tous.
URL:https://www.commerces-hem.fr/evenement/les-tours-du-malt-une-tombola-avec-chaque-consommation/
LOCATION:Les Tours du Malt\, 36 Rue Braquaval\, Hem\, 59510\, France
CATEGORIES:Adultes
ATTACH;FMTTYPE=image/jpeg:https://www.commerces-hem.fr/wp-content/uploads/2025/06/511273308_1250458956959638_1759876669907050864_n-e1751288291846.jpg
ORGANIZER;CN="Les Tours du Malt":MAILTO:contact@lestoursdumalt.fr
END:VEVENT
END:VCALENDAR