BEGIN:VCALENDAR
VERSION:2.0
PRODID:-//Les commerçants d&#039;Hem J&#039;aime - ECPv6.15.20//NONSGML v1.0//EN
CALSCALE:GREGORIAN
METHOD:PUBLISH
X-WR-CALNAME:Les commerçants d&#039;Hem J&#039;aime
X-ORIGINAL-URL:https://www.commerces-hem.fr
X-WR-CALDESC:Évènements pour Les commerçants d&#039;Hem J&#039;aime
REFRESH-INTERVAL;VALUE=DURATION:PT1H
X-Robots-Tag:noindex
X-PUBLISHED-TTL:PT1H
BEGIN:VTIMEZONE
TZID:Europe/Paris
BEGIN:DAYLIGHT
TZOFFSETFROM:+0100
TZOFFSETTO:+0200
TZNAME:CEST
DTSTART:20240331T010000
END:DAYLIGHT
BEGIN:STANDARD
TZOFFSETFROM:+0200
TZOFFSETTO:+0100
TZNAME:CET
DTSTART:20241027T010000
END:STANDARD
BEGIN:DAYLIGHT
TZOFFSETFROM:+0100
TZOFFSETTO:+0200
TZNAME:CEST
DTSTART:20250330T010000
END:DAYLIGHT
BEGIN:STANDARD
TZOFFSETFROM:+0200
TZOFFSETTO:+0100
TZNAME:CET
DTSTART:20251026T010000
END:STANDARD
BEGIN:DAYLIGHT
TZOFFSETFROM:+0100
TZOFFSETTO:+0200
TZNAME:CEST
DTSTART:20260329T010000
END:DAYLIGHT
BEGIN:STANDARD
TZOFFSETFROM:+0200
TZOFFSETTO:+0100
TZNAME:CET
DTSTART:20261025T010000
END:STANDARD
END:VTIMEZONE
BEGIN:VEVENT
DTSTART;TZID=Europe/Paris:20250912T180000
DTEND;TZID=Europe/Paris:20250912T210000
DTSTAMP:20260425T175137
CREATED:20250912T080121Z
LAST-MODIFIED:20250912T080121Z
UID:1958-1757700000-1757710800@www.commerces-hem.fr
SUMMARY:Soirée des contributeurs
DESCRIPTION:Après une campagne de financement menée haut la main (grâce à vous )\, il est grand temps de lever nos verres ensemble pour fêter ça comme il se doit !\n Au programme :∙ Un concert du groupe Black River Swimmers pour mettre tout le monde d’accord ∙ Un apéro dinatoire généreux et gourmand\, pour trinquer et grignoter tous ensemble \n On te donne rendez-vous le vendredi 12 septembre\, dès 18h pour le lancement des festivités Pour les plus impatients\, on ouvre le bar dès 14h30 pour trinquer fièrement\n Toutes vos CONTREPARTIES seront disponibles à partir de ce jour-là : vous pourrez repartir avec vos précieux biens directement pendant la soirée… ou passer les récupérer un peu plus tard si vous préférez.\nEt bien-sûr\, encore une fois : merci infiniment pour votre soutien\, sans vous rien de tout cela n’aurait été possible Maintenant\, place à la fête : on vous attend nombreux pour célébrer ensemble cette belle aventure ! 
URL:https://www.commerces-hem.fr/evenement/soiree-des-contributeurs/
LOCATION:Les Tours du Malt\, 36 Rue Braquaval\, Hem\, 59510\, France
CATEGORIES:Adultes
ATTACH;FMTTYPE=image/jpeg:https://www.commerces-hem.fr/wp-content/uploads/2025/09/534989965_1294472899224910_8093702659892909947_n.jpg
ORGANIZER;CN="Les Tours du Malt":MAILTO:contact@lestoursdumalt.fr
END:VEVENT
END:VCALENDAR