BEGIN:VCALENDAR
VERSION:2.0
PRODID:-//Les commerçants d&#039;Hem J&#039;aime - ECPv6.15.20//NONSGML v1.0//EN
CALSCALE:GREGORIAN
METHOD:PUBLISH
X-ORIGINAL-URL:https://www.commerces-hem.fr
X-WR-CALDESC:Évènements pour Les commerçants d&#039;Hem J&#039;aime
REFRESH-INTERVAL;VALUE=DURATION:PT1H
X-Robots-Tag:noindex
X-PUBLISHED-TTL:PT1H
BEGIN:VTIMEZONE
TZID:Europe/Paris
BEGIN:DAYLIGHT
TZOFFSETFROM:+0100
TZOFFSETTO:+0200
TZNAME:CEST
DTSTART:20240331T010000
END:DAYLIGHT
BEGIN:STANDARD
TZOFFSETFROM:+0200
TZOFFSETTO:+0100
TZNAME:CET
DTSTART:20241027T010000
END:STANDARD
BEGIN:DAYLIGHT
TZOFFSETFROM:+0100
TZOFFSETTO:+0200
TZNAME:CEST
DTSTART:20250330T010000
END:DAYLIGHT
BEGIN:STANDARD
TZOFFSETFROM:+0200
TZOFFSETTO:+0100
TZNAME:CET
DTSTART:20251026T010000
END:STANDARD
BEGIN:DAYLIGHT
TZOFFSETFROM:+0100
TZOFFSETTO:+0200
TZNAME:CEST
DTSTART:20260329T010000
END:DAYLIGHT
BEGIN:STANDARD
TZOFFSETFROM:+0200
TZOFFSETTO:+0100
TZNAME:CET
DTSTART:20261025T010000
END:STANDARD
END:VTIMEZONE
BEGIN:VEVENT
DTSTART;TZID=Europe/Paris:20250918T190000
DTEND;TZID=Europe/Paris:20250918T220000
DTSTAMP:20260425T175254
CREATED:20250912T080318Z
LAST-MODIFIED:20250912T080318Z
UID:1961-1758222000-1758232800@www.commerces-hem.fr
SUMMARY:Inauguration de la terasse des Tours du malt !
DESCRIPTION:Vous l’avez sûrement remarqué en passant par la brasserie ces derniers mois… Il se tramait quelque chose dans notre jardin \nEn effet\, on était occupés à vous préparer une surprise de taille… l’aménagement de notre tout nouvel espace extérieur ! \nPour fêter la fin des chantiers\, on vous a préparé une soirée d’inauguration aux petits oignons le jeudi 18 septembre : ambiance\, surprises et good vibes au programme. Bref\, tout pour être heureux \n Au programme entre autres :∙ 1 concert : aux côtés de Norbert’s Band & the Kids (NBK) qui reprendra les plus grands classiques de vos playlists. Préparez-vous à danser. Juste ça. ∙ De la restauration pour reprendre des forces entre 2deux musiques ∙ Des boissons Made In Les Tours du Malt\, ça va de soi ! \nPetit à petit\, on espère que vous vous y sentiez comme à la maison : on a la volonté d’y installer 2 terrains de pétanque\, un terrain de volley pour la saison 2026\, et de faire vivre le lieu avec une belle programmation musicale & culturelle On a bossé dur pour vous concocter un espace cosy et chaleureux\, et on a hâte de vous le faire découvrir \nOn vous compte parmi nous ? Rendez-vous le jeudi 18 septembre dès 19h à la brasserie ! \nL’abus d’alcool est dangereux pour la santé. À consommer avec modération.
URL:https://www.commerces-hem.fr/evenement/inauguration-de-la-terasse-des-tours-du-malt/
LOCATION:Les Tours du Malt\, 36 Rue Braquaval\, Hem\, 59510\, France
CATEGORIES:Adultes
ATTACH;FMTTYPE=image/jpeg:https://www.commerces-hem.fr/wp-content/uploads/2025/09/535281159_1294488872556646_364879558426213917_n.jpg
ORGANIZER;CN="Les Tours du Malt":MAILTO:contact@lestoursdumalt.fr
END:VEVENT
END:VCALENDAR