BEGIN:VCALENDAR
VERSION:2.0
PRODID:-//Les commerçants d&#039;Hem J&#039;aime - ECPv6.15.20//NONSGML v1.0//EN
CALSCALE:GREGORIAN
METHOD:PUBLISH
X-ORIGINAL-URL:https://www.commerces-hem.fr
X-WR-CALDESC:Évènements pour Les commerçants d&#039;Hem J&#039;aime
REFRESH-INTERVAL;VALUE=DURATION:PT1H
X-Robots-Tag:noindex
X-PUBLISHED-TTL:PT1H
BEGIN:VTIMEZONE
TZID:Europe/Paris
BEGIN:DAYLIGHT
TZOFFSETFROM:+0100
TZOFFSETTO:+0200
TZNAME:CEST
DTSTART:20240331T010000
END:DAYLIGHT
BEGIN:STANDARD
TZOFFSETFROM:+0200
TZOFFSETTO:+0100
TZNAME:CET
DTSTART:20241027T010000
END:STANDARD
BEGIN:DAYLIGHT
TZOFFSETFROM:+0100
TZOFFSETTO:+0200
TZNAME:CEST
DTSTART:20250330T010000
END:DAYLIGHT
BEGIN:STANDARD
TZOFFSETFROM:+0200
TZOFFSETTO:+0100
TZNAME:CET
DTSTART:20251026T010000
END:STANDARD
BEGIN:DAYLIGHT
TZOFFSETFROM:+0100
TZOFFSETTO:+0200
TZNAME:CEST
DTSTART:20260329T010000
END:DAYLIGHT
BEGIN:STANDARD
TZOFFSETFROM:+0200
TZOFFSETTO:+0100
TZNAME:CET
DTSTART:20261025T010000
END:STANDARD
END:VTIMEZONE
BEGIN:VEVENT
DTSTART;TZID=Europe/Paris:20250928T140000
DTEND;TZID=Europe/Paris:20250928T180000
DTSTAMP:20260425T175255
CREATED:20250912T081331Z
LAST-MODIFIED:20250912T081331Z
UID:1970-1759068000-1759082400@www.commerces-hem.fr
SUMMARY:Fiesta Seniors
DESCRIPTION:Mettez vous sur votre 31 ! Une grande fiesta senior est organisée ce dimanche 28 septembre au Centre Intergénérationnel de Beaumont ! \nAu programme\, de 14h à 18h : \n\nanimations musicales et dansantes avec Benoît Juillet\ninitiation danse avec Déis Danse\nGoûter convivial\n\nL’entrée est gratuite sur réservation \nEn amont de l’événement\, un stage de danse animé par Deiss Danse (présent également lors de la Fiesta) est proposé à la Maison du Foot les 11\, 18 et 25 septembre\, de 15h à 16h30. \nFiesta Seniors (réservée aux retraités hémois)\nDimanche 28 septembre\, de 14h à 18h\nCentre Intergénérationnel de Beaumont\n2 bis rue Racine\nRens. 03 20 66 04 04
URL:https://www.commerces-hem.fr/evenement/fiesta-seniors/
CATEGORIES:Adultes
ATTACH;FMTTYPE=image/jpeg:https://www.commerces-hem.fr/wp-content/uploads/2025/09/WEB.-AFF-Fiesta-Senior-Beaumont-01.jpg
END:VEVENT
END:VCALENDAR