BEGIN:VCALENDAR
VERSION:2.0
PRODID:-//Les commerçants d&#039;Hem J&#039;aime - ECPv6.15.20//NONSGML v1.0//EN
CALSCALE:GREGORIAN
METHOD:PUBLISH
X-ORIGINAL-URL:https://www.commerces-hem.fr
X-WR-CALDESC:Évènements pour Les commerçants d&#039;Hem J&#039;aime
REFRESH-INTERVAL;VALUE=DURATION:PT1H
X-Robots-Tag:noindex
X-PUBLISHED-TTL:PT1H
BEGIN:VTIMEZONE
TZID:Europe/Paris
BEGIN:DAYLIGHT
TZOFFSETFROM:+0100
TZOFFSETTO:+0200
TZNAME:CEST
DTSTART:20240331T010000
END:DAYLIGHT
BEGIN:STANDARD
TZOFFSETFROM:+0200
TZOFFSETTO:+0100
TZNAME:CET
DTSTART:20241027T010000
END:STANDARD
BEGIN:DAYLIGHT
TZOFFSETFROM:+0100
TZOFFSETTO:+0200
TZNAME:CEST
DTSTART:20250330T010000
END:DAYLIGHT
BEGIN:STANDARD
TZOFFSETFROM:+0200
TZOFFSETTO:+0100
TZNAME:CET
DTSTART:20251026T010000
END:STANDARD
BEGIN:DAYLIGHT
TZOFFSETFROM:+0100
TZOFFSETTO:+0200
TZNAME:CEST
DTSTART:20260329T010000
END:DAYLIGHT
BEGIN:STANDARD
TZOFFSETFROM:+0200
TZOFFSETTO:+0100
TZNAME:CET
DTSTART:20261025T010000
END:STANDARD
END:VTIMEZONE
BEGIN:VEVENT
DTSTART;TZID=Europe/Paris:20251113T190000
DTEND;TZID=Europe/Paris:20251113T190000
DTSTAMP:20260425T151106
CREATED:20251105T111425Z
LAST-MODIFIED:20251105T111425Z
UID:2077-1763060400-1763060400@www.commerces-hem.fr
SUMMARY:Accord bière et fromages
DESCRIPTION:Sébastien du Comptoir d’Aristée et Hervé des Tours du Malt t’ont préparé une dégustation qu’ils vont animer avec passion !\nAu programme :4 bières 4 fromages 1 quiz… et des gagnants ! \nEt pour pimenter la soirée\, la dégustation se fera… à l’aveugle ! 
URL:https://www.commerces-hem.fr/evenement/accord-biere-et-fromages/
LOCATION:Les Tours du Malt\, 36 Rue Braquaval\, Hem\, 59510\, France
CATEGORIES:Adultes,Enfants
ATTACH;FMTTYPE=image/jpeg:https://www.commerces-hem.fr/wp-content/uploads/2025/11/576687794_1364522742219925_2297130203867917386_n.jpg
ORGANIZER;CN="Les Tours du Malt":MAILTO:contact@lestoursdumalt.fr
END:VEVENT
END:VCALENDAR