BEGIN:VCALENDAR
VERSION:2.0
PRODID:-//Les commerçants d&#039;Hem J&#039;aime - ECPv6.15.20//NONSGML v1.0//EN
CALSCALE:GREGORIAN
METHOD:PUBLISH
X-ORIGINAL-URL:https://www.commerces-hem.fr
X-WR-CALDESC:Évènements pour Les commerçants d&#039;Hem J&#039;aime
REFRESH-INTERVAL;VALUE=DURATION:PT1H
X-Robots-Tag:noindex
X-PUBLISHED-TTL:PT1H
BEGIN:VTIMEZONE
TZID:Europe/Paris
BEGIN:DAYLIGHT
TZOFFSETFROM:+0100
TZOFFSETTO:+0200
TZNAME:CEST
DTSTART:20240331T010000
END:DAYLIGHT
BEGIN:STANDARD
TZOFFSETFROM:+0200
TZOFFSETTO:+0100
TZNAME:CET
DTSTART:20241027T010000
END:STANDARD
BEGIN:DAYLIGHT
TZOFFSETFROM:+0100
TZOFFSETTO:+0200
TZNAME:CEST
DTSTART:20250330T010000
END:DAYLIGHT
BEGIN:STANDARD
TZOFFSETFROM:+0200
TZOFFSETTO:+0100
TZNAME:CET
DTSTART:20251026T010000
END:STANDARD
BEGIN:DAYLIGHT
TZOFFSETFROM:+0100
TZOFFSETTO:+0200
TZNAME:CEST
DTSTART:20260329T010000
END:DAYLIGHT
BEGIN:STANDARD
TZOFFSETFROM:+0200
TZOFFSETTO:+0100
TZNAME:CET
DTSTART:20261025T010000
END:STANDARD
BEGIN:DAYLIGHT
TZOFFSETFROM:+0100
TZOFFSETTO:+0200
TZNAME:CEST
DTSTART:20270328T010000
END:DAYLIGHT
BEGIN:STANDARD
TZOFFSETFROM:+0200
TZOFFSETTO:+0100
TZNAME:CET
DTSTART:20271031T010000
END:STANDARD
END:VTIMEZONE
BEGIN:VEVENT
DTSTART;TZID=Europe/Paris:20251231T183000
DTEND;TZID=Europe/Paris:20260101T020000
DTSTAMP:20260425T122441
CREATED:20251205T101927Z
LAST-MODIFIED:20251205T101927Z
UID:2124-1767205800-1767232800@www.commerces-hem.fr
SUMMARY:Réveillon solidaire
DESCRIPTION:🎉 Un Nouvel An Chaleureux : Participez au Réveillon Solidaire de Saint-Exupéry !\nVous cherchez une façon conviviale\, festive et solidaire de célébrer le passage à la nouvelle année ? L’Espace de Vie Saint-Exupéry vous invite à son traditionnel réveillon solidaire ! \nVenez partager un moment de fête inoubliable pour le Nouvel An\, dans une ambiance conviviale et ouverte à tous. C’est l’occasion parfaite de se rassembler et d’accueillir l’année dans la bonne humeur\, sans se soucier de l’organisation. \n🥂 Célébrer ensemble le 31 décembre\n\n\nQuoi : Réveillon solidaire organisé par l’Espace de Vie Saint-Exupéry \n\n\nQuand : Mercredi 31 décembre 2025 \n\n\nHeures : De 18h30 à 2h00 \n\n\nOù : Salle Dunant \n\n\n💰 Tarifs Solidaires (Boisson comprise)\nL’événement est conçu pour être accessible à toutes les familles\, grâce à une tarification basée sur le quotient familial : \n\n\n\nTranche d’âge/Quotient\nTarif (Boisson comprise)\n\n\n\n\nAdultes\nDe 7€ à 24€ (selon quotient familial)\n\n\nEnfants de 3 à 10 ans\n5€\n\n\nMoins de 3 ans\nGratuit\n\n\n\n📝 Inscriptions\nLes places étant limitées\, la réservation est indispensable ! \nPour tout renseignement et inscription\, contactez directement les organisateurs : \n\n\nSur place : Accueil du Centre Social Saint-Exupéry \n\n\nPar téléphone : 03 20 66 23 20 \n\n\n\nVenez nombreux pour célébrer la solidarité et faire de ce réveillon un moment inoubliable !
URL:https://www.commerces-hem.fr/evenement/reveillon-solidaire/
CATEGORIES:Adultes,Enfants
ATTACH;FMTTYPE=image/jpeg:https://www.commerces-hem.fr/wp-content/uploads/2025/12/AdobeStock_667754939-254x254-c-default.jpeg
END:VEVENT
END:VCALENDAR