BEGIN:VCALENDAR
VERSION:2.0
PRODID:-//Les commerçants d&#039;Hem J&#039;aime - ECPv6.15.20//NONSGML v1.0//EN
CALSCALE:GREGORIAN
METHOD:PUBLISH
X-WR-CALNAME:Les commerçants d&#039;Hem J&#039;aime
X-ORIGINAL-URL:https://www.commerces-hem.fr
X-WR-CALDESC:Évènements pour Les commerçants d&#039;Hem J&#039;aime
REFRESH-INTERVAL;VALUE=DURATION:PT1H
X-Robots-Tag:noindex
X-PUBLISHED-TTL:PT1H
BEGIN:VTIMEZONE
TZID:Europe/Paris
BEGIN:DAYLIGHT
TZOFFSETFROM:+0100
TZOFFSETTO:+0200
TZNAME:CEST
DTSTART:20250330T010000
END:DAYLIGHT
BEGIN:STANDARD
TZOFFSETFROM:+0200
TZOFFSETTO:+0100
TZNAME:CET
DTSTART:20251026T010000
END:STANDARD
BEGIN:DAYLIGHT
TZOFFSETFROM:+0100
TZOFFSETTO:+0200
TZNAME:CEST
DTSTART:20260329T010000
END:DAYLIGHT
BEGIN:STANDARD
TZOFFSETFROM:+0200
TZOFFSETTO:+0100
TZNAME:CET
DTSTART:20261025T010000
END:STANDARD
BEGIN:DAYLIGHT
TZOFFSETFROM:+0100
TZOFFSETTO:+0200
TZNAME:CEST
DTSTART:20270328T010000
END:DAYLIGHT
BEGIN:STANDARD
TZOFFSETFROM:+0200
TZOFFSETTO:+0100
TZNAME:CET
DTSTART:20271031T010000
END:STANDARD
END:VTIMEZONE
BEGIN:VEVENT
DTSTART;TZID=Europe/Paris:20260120T190000
DTEND;TZID=Europe/Paris:20260120T190000
DTSTAMP:20260425T122249
CREATED:20251205T102850Z
LAST-MODIFIED:20251205T102850Z
UID:2130-1768935600-1768935600@www.commerces-hem.fr
SUMMARY:Club Cin’Hem’a
DESCRIPTION:🎬 Club Cin’Hem’a : L’Événement Cinéma du Mois avec « L’Amour Ouf » !\nLe Club Cin’Hem’a vous invite à une projection exceptionnelle avec l’un des films français les plus attendus : « L’Amour Ouf ». \nRéalisé par Gilles Lellouche\, ce film flamboyant s’annonce comme une fresque romanesque et musicale incontournable. Il réunit un casting éblouissant\, mené par François Civil\, Adèle Exarchopoulos\, Mallory Wanecque et Alain Chabat. Préparez-vous à une histoire d’amour passionnelle et démesurée ! \n📽️ Rendez-vous Ciné-Club\n\n\nFilm : L’Amour Ouf \n\n\nRéalisateur : Gilles Lellouche \n\n\nQuand : Mardi 20 janvier 2026 \n\n\nHeure : 19h00 \n\n\nOù : Espace Culturel Franchomme \n\n\n🎫 Tarifs et Infos\nL’accès à cette séance est maintenu à un prix très accessible pour tous : \n\n\nTarif public (non-adhérents) : 5 € \n\n\n\nPour toute information complémentaire\, vous pouvez contacter le 03 20 66 58 48. \nNe manquez pas cette soirée Ciné-Club le 20 janvier à Franchomme !
URL:https://www.commerces-hem.fr/evenement/club-cinhema-2/
LOCATION:Espace Culturel Franchomme
CATEGORIES:Adultes,Enfants
ATTACH;FMTTYPE=image/jpeg:https://www.commerces-hem.fr/wp-content/uploads/2025/12/1715363-francois-civil-et-adele-exarchopoulos-dans-l-amour-ouf-254x254-c-default.jpg
END:VEVENT
END:VCALENDAR