BEGIN:VCALENDAR
VERSION:2.0
PRODID:-//Les commerçants d&#039;Hem J&#039;aime - ECPv6.15.20//NONSGML v1.0//EN
CALSCALE:GREGORIAN
METHOD:PUBLISH
X-WR-CALNAME:Les commerçants d&#039;Hem J&#039;aime
X-ORIGINAL-URL:https://www.commerces-hem.fr
X-WR-CALDESC:Évènements pour Les commerçants d&#039;Hem J&#039;aime
REFRESH-INTERVAL;VALUE=DURATION:PT1H
X-Robots-Tag:noindex
X-PUBLISHED-TTL:PT1H
BEGIN:VTIMEZONE
TZID:Europe/Paris
BEGIN:DAYLIGHT
TZOFFSETFROM:+0100
TZOFFSETTO:+0200
TZNAME:CEST
DTSTART:20250330T010000
END:DAYLIGHT
BEGIN:STANDARD
TZOFFSETFROM:+0200
TZOFFSETTO:+0100
TZNAME:CET
DTSTART:20251026T010000
END:STANDARD
BEGIN:DAYLIGHT
TZOFFSETFROM:+0100
TZOFFSETTO:+0200
TZNAME:CEST
DTSTART:20260329T010000
END:DAYLIGHT
BEGIN:STANDARD
TZOFFSETFROM:+0200
TZOFFSETTO:+0100
TZNAME:CET
DTSTART:20261025T010000
END:STANDARD
BEGIN:DAYLIGHT
TZOFFSETFROM:+0100
TZOFFSETTO:+0200
TZNAME:CEST
DTSTART:20270328T010000
END:DAYLIGHT
BEGIN:STANDARD
TZOFFSETFROM:+0200
TZOFFSETTO:+0100
TZNAME:CET
DTSTART:20271031T010000
END:STANDARD
END:VTIMEZONE
BEGIN:VEVENT
DTSTART;TZID=Europe/Paris:20260124T080000
DTEND;TZID=Europe/Paris:20260124T130000
DTSTAMP:20260425T122247
CREATED:20251205T103257Z
LAST-MODIFIED:20251205T103257Z
UID:2133-1769241600-1769259600@www.commerces-hem.fr
SUMMARY:Don du sang
DESCRIPTION:❤️ Votre Geste qui Sauve : Prochaine Collecte de Sang à Hem\nL’année commence\, et les besoins en sang restent constants. L’heure est à la mobilisation pour tous les donneurs ! \nNous vous donnons rendez-vous ce mois-ci pour participer à la nouvelle collecte de sang organisée à Hem. C’est l’occasion de prendre quelques minutes de votre week-end pour offrir le plus beau des cadeaux : celui de la vie. \n🩸 Informations Pratiques\nLa collecte se déroule dans l’environnement accueillant de l’Espace Culturel Franchomme : \n\n\nQuoi : Don du sang \n\n\nQuand : Samedi 24 janvier 2026 \n\n\nHeure : De 8h00 à 13h00 \n\n\nOù : Espace Culturel Franchomme\, 1 rue du Général Leclerc \n\n\n📝 Bon à Savoir\nDonner son sang est un geste simple et encadré par des professionnels de santé. Venez à jeun léger (évitez de manger juste avant\, mais ne venez pas l’estomac vide) et hydratez-vous bien. \nRendez-vous le 24 janvier. Votre générosité est précieuse ! \n\nSouhaitez-vous que je vérifie les conditions pour donner son sang ou avez-vous une autre annonce à reformuler ?
URL:https://www.commerces-hem.fr/evenement/don-du-sang/
LOCATION:Espace Culturel Franchomme
CATEGORIES:Adultes
ATTACH;FMTTYPE=image/jpeg:https://www.commerces-hem.fr/wp-content/uploads/2025/12/dondusangslide-254x254-c-default.jpg
END:VEVENT
BEGIN:VEVENT
DTSTART;TZID=Europe/Paris:20260124T170000
DTEND;TZID=Europe/Paris:20260124T170000
DTSTAMP:20260425T122247
CREATED:20260107T135726Z
LAST-MODIFIED:20260107T135726Z
UID:2162-1769274000-1769274000@www.commerces-hem.fr
SUMMARY:Tournoi de fléchettes aux Tours du Malt
DESCRIPTION:Les Tours du Malt mettent au défi l’adresse de leurs clients lors d’un tournoi de fléchettes où se mêlent précision\, concentration et une pointe de chance. L’établissement invite aussi bien les experts que les débutants à venir tester leur lancer dans une ambiance festive et décontractée. \nUne expérience conviviale : Au-delà de la compétition\, l’équipe met l’accent sur la camaraderie : entre deux tirs\, les participants sont encouragés à trinquer\, rire et soutenir les autres joueurs. \nLa récompense : Pour motiver les troupes\, Les Tours du Malt réservent au vainqueur de la compétition un coffret de trois bouteilles de 75cl\, à personnaliser selon ses goûts directement en boutique.
URL:https://www.commerces-hem.fr/evenement/tournoi-de-flechettes-aux-tours-du-malt/
LOCATION:Les Tours du Malt\, 36 Rue Braquaval\, Hem\, 59510\, France
CATEGORIES:Adultes,Enfants
ATTACH;FMTTYPE=image/jpeg:https://www.commerces-hem.fr/wp-content/uploads/2026/01/Darts_in_a_dartboard-scaled.jpg
ORGANIZER;CN="Les Tours du Malt":MAILTO:contact@lestoursdumalt.fr
END:VEVENT
END:VCALENDAR