BEGIN:VCALENDAR
VERSION:2.0
PRODID:-//Les commerçants d&#039;Hem J&#039;aime - ECPv6.15.20//NONSGML v1.0//EN
CALSCALE:GREGORIAN
METHOD:PUBLISH
X-ORIGINAL-URL:https://www.commerces-hem.fr
X-WR-CALDESC:Évènements pour Les commerçants d&#039;Hem J&#039;aime
REFRESH-INTERVAL;VALUE=DURATION:PT1H
X-Robots-Tag:noindex
X-PUBLISHED-TTL:PT1H
BEGIN:VTIMEZONE
TZID:Europe/Paris
BEGIN:DAYLIGHT
TZOFFSETFROM:+0100
TZOFFSETTO:+0200
TZNAME:CEST
DTSTART:20240331T010000
END:DAYLIGHT
BEGIN:STANDARD
TZOFFSETFROM:+0200
TZOFFSETTO:+0100
TZNAME:CET
DTSTART:20241027T010000
END:STANDARD
BEGIN:DAYLIGHT
TZOFFSETFROM:+0100
TZOFFSETTO:+0200
TZNAME:CEST
DTSTART:20250330T010000
END:DAYLIGHT
BEGIN:STANDARD
TZOFFSETFROM:+0200
TZOFFSETTO:+0100
TZNAME:CET
DTSTART:20251026T010000
END:STANDARD
BEGIN:DAYLIGHT
TZOFFSETFROM:+0100
TZOFFSETTO:+0200
TZNAME:CEST
DTSTART:20260329T010000
END:DAYLIGHT
BEGIN:STANDARD
TZOFFSETFROM:+0200
TZOFFSETTO:+0100
TZNAME:CET
DTSTART:20261025T010000
END:STANDARD
END:VTIMEZONE
BEGIN:VEVENT
DTSTART;TZID=Europe/Paris:20250218T150000
DTEND;TZID=Europe/Paris:20250218T170000
DTSTAMP:20260426T012114
CREATED:20250214T102701Z
LAST-MODIFIED:20250214T102701Z
UID:1392-1739890800-1739898000@www.commerces-hem.fr
SUMMARY:Ciné Zéphyr : Film Élémentaire
DESCRIPTION:🎬 Ciné Zéphyr : Projection du film « Élémentaire » 🎬 \nVenez découvrir « Élémentaire »\, le dernier bijou des studios Pixar\, au Ciné Zéphyr ! \n📅 Mardi 18 février🕒 15h📍 Le Zéphyr🎟 Tarif : 4€ \nRéservez dès maintenant vos places en ligne et plongez dans un monde où les éléments prennent vie ! 🌊🔥💨🌱
URL:https://www.commerces-hem.fr/evenement/cine-zephyr-film-elementaire/
LOCATION:Zéphyr\, Rue du Tilleul\, HEM\, 59510\, France
CATEGORIES:Enfants,Zéphyr
ATTACH;FMTTYPE=image/jpeg:https://www.commerces-hem.fr/wp-content/uploads/2025/02/83_9782017208402_1_75.jpg
END:VEVENT
BEGIN:VEVENT
DTSTART;TZID=Europe/Paris:20250225T190000
DTEND;TZID=Europe/Paris:20250225T220000
DTSTAMP:20260426T012114
CREATED:20250214T103426Z
LAST-MODIFIED:20250214T103521Z
UID:1399-1740510000-1740520800@www.commerces-hem.fr
SUMMARY:Club Cin’Hem’a - Bob Marley : One Love
DESCRIPTION:🎬 Club Cin’Hem’a : Projection de « Bob Marley : One Love » 🎶 \nLe Club Cin’Hem’a vous invite à découvrir « Bob Marley : One Love »\, un biopic captivant sur la légende du reggae\, réalisé par Reinaldo Marcus Green avec Kingsley Ben-Adir et Lashana Lynch. \n📅 Mardi 25 février🕖 19h📍 Salle Franchomme📞 Infos : 03 20 66 58 48 \nPlongez dans l’histoire et la musique d’une icône intemporelle !
URL:https://www.commerces-hem.fr/evenement/club-cinhema-bob-marley-one-love/
LOCATION:Espace Culturel Franchomme
CATEGORIES:Adultes,Enfants
ATTACH;FMTTYPE=image/jpeg:https://www.commerces-hem.fr/wp-content/uploads/2025/02/513iOh4IUjL.jpg
END:VEVENT
END:VCALENDAR