BEGIN:VCALENDAR
VERSION:2.0
PRODID:-//Les commerçants d&#039;Hem J&#039;aime - ECPv6.15.20//NONSGML v1.0//EN
CALSCALE:GREGORIAN
METHOD:PUBLISH
X-ORIGINAL-URL:https://www.commerces-hem.fr
X-WR-CALDESC:Évènements pour Les commerçants d&#039;Hem J&#039;aime
REFRESH-INTERVAL;VALUE=DURATION:PT1H
X-Robots-Tag:noindex
X-PUBLISHED-TTL:PT1H
BEGIN:VTIMEZONE
TZID:Europe/Paris
BEGIN:DAYLIGHT
TZOFFSETFROM:+0100
TZOFFSETTO:+0200
TZNAME:CEST
DTSTART:20240331T010000
END:DAYLIGHT
BEGIN:STANDARD
TZOFFSETFROM:+0200
TZOFFSETTO:+0100
TZNAME:CET
DTSTART:20241027T010000
END:STANDARD
BEGIN:DAYLIGHT
TZOFFSETFROM:+0100
TZOFFSETTO:+0200
TZNAME:CEST
DTSTART:20250330T010000
END:DAYLIGHT
BEGIN:STANDARD
TZOFFSETFROM:+0200
TZOFFSETTO:+0100
TZNAME:CET
DTSTART:20251026T010000
END:STANDARD
BEGIN:DAYLIGHT
TZOFFSETFROM:+0100
TZOFFSETTO:+0200
TZNAME:CEST
DTSTART:20260329T010000
END:DAYLIGHT
BEGIN:STANDARD
TZOFFSETFROM:+0200
TZOFFSETTO:+0100
TZNAME:CET
DTSTART:20261025T010000
END:STANDARD
END:VTIMEZONE
BEGIN:VEVENT
DTSTART;VALUE=DATE:20250517
DTEND;VALUE=DATE:20250518
DTSTAMP:20260425T214100
CREATED:20250331T091558Z
LAST-MODIFIED:20250331T091823Z
UID:1540-1747440000-1747526399@www.commerces-hem.fr
SUMMARY:Braderie des 3 Baudets
DESCRIPTION:Avis aux amateurs de bonnes affaires ! La Braderie des 3 Baudets revient le samedi 17 mai dans la rue Louis Loucheur\, un événement convivial organisé par l’Espace de Vie Saint Exupéry. \nL’occasion parfaite pour chiner\, dénicher des trésors et profiter d’un moment d’échange entre habitants. Venez nombreux flâner parmi les stands et partager cette journée placée sous le signe de la bonne humeur ! 🎉
URL:https://www.commerces-hem.fr/evenement/braderie-des-3-baudets/
CATEGORIES:Adultes,Enfants
ATTACH;FMTTYPE=image/jpeg:https://www.commerces-hem.fr/wp-content/uploads/2025/03/12277217_4938139.jpg
END:VEVENT
BEGIN:VEVENT
DTSTART;VALUE=DATE:20250523
DTEND;VALUE=DATE:20250524
DTSTAMP:20260425T214100
CREATED:20250331T092038Z
LAST-MODIFIED:20250331T092600Z
UID:1543-1747958400-1748044799@www.commerces-hem.fr
SUMMARY:Fête des Voisins à Hem
DESCRIPTION:Et si vous profitiez de cette soirée pour partager un moment convivial avec vos voisins ? Le vendredi 23 mai\, organisez votre propre Fête des Voisins en mode auberge espagnole : chacun apporte de quoi boire et manger pour un moment de partage et de bonne humeur ! \nLa ville vous accompagne en facilitant l’organisation :✅ Arrêtés municipaux pour sécuriser votre fête devant chez vous✅ Prêt de jeux pour animer la soirée et s’amuser entre voisins \n📌 Infos & demandes : 03 20 66 58 09 \nAlors\, prêts à trinquer avec vos voisins ? 🥂🏡
URL:https://www.commerces-hem.fr/evenement/fete-des-voisins-a-hem/
CATEGORIES:Adultes,Enfants
ATTACH;FMTTYPE=image/jpeg:https://www.commerces-hem.fr/wp-content/uploads/2025/03/10307452_4435903.jpg
END:VEVENT
END:VCALENDAR