BEGIN:VCALENDAR
VERSION:2.0
PRODID:-//Les commerçants d&#039;Hem J&#039;aime - ECPv6.15.20//NONSGML v1.0//EN
CALSCALE:GREGORIAN
METHOD:PUBLISH
X-WR-CALNAME:Les commerçants d&#039;Hem J&#039;aime
X-ORIGINAL-URL:https://www.commerces-hem.fr
X-WR-CALDESC:Évènements pour Les commerçants d&#039;Hem J&#039;aime
REFRESH-INTERVAL;VALUE=DURATION:PT1H
X-Robots-Tag:noindex
X-PUBLISHED-TTL:PT1H
BEGIN:VTIMEZONE
TZID:Europe/Paris
BEGIN:DAYLIGHT
TZOFFSETFROM:+0100
TZOFFSETTO:+0200
TZNAME:CEST
DTSTART:20240331T010000
END:DAYLIGHT
BEGIN:STANDARD
TZOFFSETFROM:+0200
TZOFFSETTO:+0100
TZNAME:CET
DTSTART:20241027T010000
END:STANDARD
BEGIN:DAYLIGHT
TZOFFSETFROM:+0100
TZOFFSETTO:+0200
TZNAME:CEST
DTSTART:20250330T010000
END:DAYLIGHT
BEGIN:STANDARD
TZOFFSETFROM:+0200
TZOFFSETTO:+0100
TZNAME:CET
DTSTART:20251026T010000
END:STANDARD
BEGIN:DAYLIGHT
TZOFFSETFROM:+0100
TZOFFSETTO:+0200
TZNAME:CEST
DTSTART:20260329T010000
END:DAYLIGHT
BEGIN:STANDARD
TZOFFSETFROM:+0200
TZOFFSETTO:+0100
TZNAME:CET
DTSTART:20261025T010000
END:STANDARD
BEGIN:DAYLIGHT
TZOFFSETFROM:+0100
TZOFFSETTO:+0200
TZNAME:CEST
DTSTART:20270328T010000
END:DAYLIGHT
BEGIN:STANDARD
TZOFFSETFROM:+0200
TZOFFSETTO:+0100
TZNAME:CET
DTSTART:20271031T010000
END:STANDARD
END:VTIMEZONE
BEGIN:VEVENT
DTSTART;VALUE=DATE:20251115
DTEND;VALUE=DATE:20251221
DTSTAMP:20260425T121809
CREATED:20251205T095641Z
LAST-MODIFIED:20251205T095641Z
UID:2099-1763164800-1766275199@www.commerces-hem.fr
SUMMARY:Semaine Européenne de Réduction des Déchets
DESCRIPTION:🚀 ZÉRO DÉCHET : HEM VOUS MET AU DÉFI PENDANT LA SERD !\nLa période des fêtes approche\, synonyme de consommation… mais aussi de beaucoup de déchets ! C’est le moment parfait pour se retrousser les manches et apprendre à faire autrement. \nDu 15 novembre au 20 décembre\, la Semaine Européenne de Réduction des Déchets (SERD)\, orchestrée par la Métropole Européenne de Lille\, bat son plein. À Hem\, nous avons concocté un programme d’ateliers pratiques pour vous aider à devenir de véritables artisans du quotidien\, plus respectueux de la planète et de votre porte-monnaie ! \n🛠️ Le programme des ateliers à Hem : Fabriquer\, Cuisiner\, Réduire !\nQue vous soyez débutant ou déjà engagé dans la démarche Zéro Déchet\, ces rendez-vous sont faits pour vous. Découvrez comment remplacer les produits industriels par des alternatives saines et faites maison : \n🥗 Des saveurs et des conservations naturelles\n\n\nSamedi 8 novembre à 10h (Salle Bournazel) : Apprenez la lactofermentation des légumes. Une technique ancestrale facile pour conserver vos aliments plus longtemps et enrichir votre flore intestinale ! \n\n\nMardi 9 décembre à 18h30 (Salle Bournazel) : Mangez mieux et réduisez votre impact ! Un atelier pour découvrir comment utiliser les légumes secs et manger moins de viande (Pensez à ramener un contenant). \n\n\n🎁 Fêtes Écologiques et Soin au Naturel\n\n\nMercredi 26 novembre à 16h (Maison du Foot) : Préparez un Noël plus vert ! Créez un sapin de Noël et des décorations entièrement à partir de matériaux de récupération (N’oubliez pas d’apporter vos propres éléments de récup’ !). \n\n\nJeudi 27 novembre à 18h (Maison du Foot\, 1er étage) : Fini les produits chimiques ! Atelier pour fabriquer vos lessives au naturel et prendre soin de votre linge (Apportez 3 contenants de 100 ml). \n\n\nJeudi 11 décembre à 18h (Maison du Foot\, 1er étage) : Découvrez les vertus de l’argile au quotidien pour la beauté\, la santé et l’entretien de la maison (Prévoyez deux contenants). \n\n\n🍫 Le plaisir sans emballage\n\n\nMardi 2 décembre à 18h (Salle Bournazel) : Vos enfants (et vous) vont adorer ! Atelier pour faire sa propre pâte à tartiner au chocolat et sa limonade (Ramenez un pot en verre et une bouteille d’un litre). \n\n\n\n➡️ Comment participer ?\nTous ces ateliers sont gratuits\, mais les places sont limitées ! \nL’inscription est OBLIGATOIRE pour chaque animation. \n📧 Envoyez un email en précisant le nom des ateliers qui vous intéressent à : zerodechet@ville-hem.fr \n\nNote : Merci de bien noter les contenants et matériaux à apporter pour chaque atelier. Ces petits gestes permettent de mettre la théorie directement en pratique !
URL:https://www.commerces-hem.fr/evenement/semaine-europeenne-de-reduction-des-dechets/
CATEGORIES:Adultes,Enfants
ATTACH;FMTTYPE=image/png:https://www.commerces-hem.fr/wp-content/uploads/2025/12/Capture-decran-2025-12-05-104920.png
END:VEVENT
BEGIN:VEVENT
DTSTART;TZID=Europe/Paris:20251207T090000
DTEND;TZID=Europe/Paris:20251207T120000
DTSTAMP:20260425T121809
CREATED:20251205T100057Z
LAST-MODIFIED:20251205T100057Z
UID:2102-1765098000-1765108800@www.commerces-hem.fr
SUMMARY:Saint Nicolas au marché
DESCRIPTION:🎅 Saint-Nicolas Arrive à Hem ce Dimanche !\nAvis à tous les enfants (sages) de Hem ! \nVotre marché hebdomadaire sera sous le signe de la tradition et de la gourmandise ce dimanche 7 décembre. \nSaint-Nicolas en personne sera de passage sur la Grand’Place pour distribuer de délicieuses friandises. \n🍬 Rendez-vous du Matin\n\n\nQuand : Dimanche 7 décembre \n\n\nHeure : De 9h00 à 12h00 \n\n\nOù : Marché de la Grand’Place \n\n\nVenez nombreux\, en famille\, faire vos courses de la semaine et saluer Saint-Nicolas. C’est l’occasion idéale pour les petits de recevoir leur récompense avant le grand rush de Noël ! \nN’oubliez pas d’être au rendez-vous pour cet instant magique et gourmand !
URL:https://www.commerces-hem.fr/evenement/saint-nicolas-au-marche/
LOCATION:Grand’Place de Hem\, Grand'Place\, HEM\, 59510\, France
CATEGORIES:Adultes,Enfants
ATTACH;FMTTYPE=image/jpeg:https://www.commerces-hem.fr/wp-content/uploads/2025/12/st-nicolas-254x254-c-default.jpg
END:VEVENT
BEGIN:VEVENT
DTSTART;TZID=Europe/Paris:20251209T190000
DTEND;TZID=Europe/Paris:20251209T190000
DTSTAMP:20260425T121809
CREATED:20251205T100559Z
LAST-MODIFIED:20251205T100559Z
UID:2105-1765306800-1765306800@www.commerces-hem.fr
SUMMARY:Club Cin’Hem’a
DESCRIPTION:🌪️ CINÉMA ÉVÉNEMENT : « TWISTERS » PROJETÉ À FRANCHOMME CE MARDI !\nPréparez-vous à une soirée pleine de sensations fortes ! \nCe mardi 9 décembre 2025\, l’Espace Culturel Franchomme vous propose de vous mesurer à la force de la nature avec le blockbuster « Twisters ». \nRéalisé par Lee Isaac Chung (Minari) et porté par l’énergie des acteurs Daisy Edgar-Jones et Glen Powell\, ce film est une expérience cinématographique spectaculaire qui ne vous laissera aucun répit. \n🎬 Le Programme de la Soirée\n\n\nFilm : Twisters \n\n\nQuand : Ce soir\, Mardi 9 décembre 2025 \n\n\nHeure de la séance : 19h00 \n\n\nOù : Espace Culturel Franchomme\, Hem \n\n\n🎫 Informations et Tarifs\nVenez profiter de cette superproduction à un tarif avantageux : \n\n\nTarif unique pour les non-adhérents : 5 € \n\n\n\nPour toute question ou information\, veuillez contacter le 03 20 66 58 48. \nRendez-vous ce mardi à 19h pour affronter la tempête !
URL:https://www.commerces-hem.fr/evenement/club-cinhema/
LOCATION:Espace Culturel Franchomme
CATEGORIES:Adultes,Enfants
ATTACH;FMTTYPE=image/jpeg:https://www.commerces-hem.fr/wp-content/uploads/2025/12/twisters-254x254-c-default.jpg
END:VEVENT
BEGIN:VEVENT
DTSTART;VALUE=DATE:20251213
DTEND;VALUE=DATE:20251229
DTSTAMP:20260425T121809
CREATED:20251205T100917Z
LAST-MODIFIED:20251205T100917Z
UID:2109-1765584000-1766966399@www.commerces-hem.fr
SUMMARY:Fêtes de Noël à Hem
DESCRIPTION:🎄 La Magie de Noël s’installe à Hem : Le Programme des Fêtes !\nPréparez vos agendas ! Pour des fêtes de fin d’année réussies\, la Ville de Hem vous donne rendez-vous du 13 au 28 décembre avec un programme riche en animations pour toute la famille. Plongez dans l’ambiance féerique de Noël ! \n1. Le Grand Lancement : En attendant Noël\nLe coup d’envoi des festivités est donné avec une journée complète d’animations. \n\n\nSamedi 13 décembre – Salle Dunant (10h à 18h) \n\n\nDès 10h : Ouverture du Marché de Noël et animations en continu (calèche\, magicien\, fanfare\, maquillage\, décoration de Noël\, contes\, photomaton avec le Père Noël\, boissons chaudes et restauration sucrée). \n\n\nÀ 16h30 : Le « crazy show » (inscription préalable auprès des centres sociaux requise). \n\n\n\n\n2. Les Plaisirs d’Hiver sur la Grand’Place\nLa Grand’Place devient le cœur battant de la période des fêtes avec des activités récurrentes : \n\n\nDu 17 au 28 décembre : Patinoire\, manège et petite restauration installés sur la Grand’Place. \n\n\n3. Spectacles et Contes pour les Enfants\nNe manquez pas ces rendez-vous culturels : \n\n\nMercredi 17 décembre (15h à 17h) : L’Espace Culturel Franchomme vous ouvre ses portes pour des contes de Noël enchanteurs. \n\n\nMercredi 17 décembre (17h) : Spectacle Pinocchio au Zéphyr. \n\n\nTarifs : 16€ / 10€ (Billetterie disponible) \n\n\n\n\nMardi 23 décembre : Ciné Zéphyr avec la projection du film « Mufasa ». \n\n\nTarif unique : 4€ \n\n\n\n\n4. Solidarité et Arrivée du Père Noël\nLa générosité et la magie sont à l’honneur lors de ces événements spéciaux : \n\n\nDu 18 au 21 décembre : Visitez le chalet solidaire sur la Grand’Place aux horaires suivants : \n\n\nMercredi 18 décembre : 16h à 19h \n\n\nSamedi 20 décembre : 14h à 18h30 \n\n\nDimanche 21 décembre : 9h à 12h \n\n\n\n\nSamedi 20 décembre : Bienvenue Père Noël sur la Grand’Place \n\n\n16h30 à 19h : Profitez des animations gratuites (activités manuelles\, maquillage\, échassiers lumineux\, jonglerie de feu et musique avec Atabak\, Imagination et Universal Legacy). \n\n\nVers 18h15 : Arrivée du Père Noël ! Distribution de boissons chaudes et de gourmandises. (L’horaire peut varier selon la météo). \n\n\nVers 19h00 : Grand feu d’artifice de clôture. (L’horaire peut varier selon la météo). \n\n\n\n\n\nNous vous attendons nombreux pour partager ces moments festifs et chaleureux à Hem !
URL:https://www.commerces-hem.fr/evenement/fetes-de-noel-a-hem/
CATEGORIES:Adultes,Enfants
ATTACH;FMTTYPE=image/jpeg:https://www.commerces-hem.fr/wp-content/uploads/2025/12/NOEL.-SITE-INTERNET-2025-scaled-254x254-c-default.jpg
END:VEVENT
BEGIN:VEVENT
DTSTART;TZID=Europe/Paris:20251219T190000
DTEND;TZID=Europe/Paris:20251219T230000
DTSTAMP:20260425T121809
CREATED:20251216T102743Z
LAST-MODIFIED:20251216T103239Z
UID:2144-1766170800-1766185200@www.commerces-hem.fr
SUMMARY:Soirée Noël - Les Tours du Malt
DESCRIPTION:La brasserie t’invite à une soirée 100 % ambiance de Noël ! ✨Plonge dans la magie des fêtes au cœur de notre brasserie artisanale. Quelques surprises t’y attendent\, alors n’hésite plus et viens partager un dernier moment convivial avant la nouvelle année 🍻🎄 \nÀ très vite
URL:https://www.commerces-hem.fr/evenement/2144/
LOCATION:Les Tours du Malt\, 36 Rue Braquaval\, Hem\, 59510\, France
CATEGORIES:Adultes,Enfants
ATTACH;FMTTYPE=image/jpeg:https://www.commerces-hem.fr/wp-content/uploads/2025/12/599927679_1396440199028179_3100515541088144370_n.jpg
ORGANIZER;CN="Les Tours du Malt":MAILTO:contact@lestoursdumalt.fr
END:VEVENT
BEGIN:VEVENT
DTSTART;TZID=Europe/Paris:20251223T150000
DTEND;TZID=Europe/Paris:20251223T150000
DTSTAMP:20260425T121809
CREATED:20251205T101521Z
LAST-MODIFIED:20251205T101521Z
UID:2118-1766502000-1766502000@www.commerces-hem.fr
SUMMARY:Ciné Zéphyr
DESCRIPTION:🦁 Un Moment Disney pour les Fêtes : « Mufasa\, le Roi Lion » au Zéphyr !\nPendant les vacances de Noël\, offrez aux plus jeunes (et aux grands nostalgiques !) une séance de cinéma magique. Le Ciné Zéphyr vous propose une projection spéciale en après-midi pour le plaisir de toute la famille. \nVenez découvrir ou redécouvrir l’histoire épique et touchante de l’univers du Roi Lion avec « Mufasa\, le roi lion »\, le dernier film des célèbres studios Disney. \n🎬 Séance Spéciale Jeune Public\nProfitez de cette sortie conviviale sans casser la tirelire ! \n\n\nQuoi : Projection du film Mufasa\, le roi lion (Studios Disney) \n\n\nQuand : Mardi 23 décembre \n\n\nHeure : 15h00 \n\n\nOù : La salle du Zéphyr \n\n\n🎟️ Tarifs et Réservations\nPour rendre le cinéma accessible à tous pendant les fêtes : \n\n\nTarif unique : 4 € \n\n\nImportant : Pensez à sécuriser vos places !
URL:https://www.commerces-hem.fr/evenement/cine-zephyr/
LOCATION:Zéphyr\, Rue du Tilleul\, HEM\, 59510\, France
CATEGORIES:Adultes,Enfants,Zéphyr
ATTACH;FMTTYPE=image/jpeg:https://www.commerces-hem.fr/wp-content/uploads/2025/12/Mufasa_MPC_ITW_03Aok-254x254-c-default.jpg
END:VEVENT
BEGIN:VEVENT
DTSTART;TZID=Europe/Paris:20251231T183000
DTEND;TZID=Europe/Paris:20260101T020000
DTSTAMP:20260425T121809
CREATED:20251205T101927Z
LAST-MODIFIED:20251205T101927Z
UID:2124-1767205800-1767232800@www.commerces-hem.fr
SUMMARY:Réveillon solidaire
DESCRIPTION:🎉 Un Nouvel An Chaleureux : Participez au Réveillon Solidaire de Saint-Exupéry !\nVous cherchez une façon conviviale\, festive et solidaire de célébrer le passage à la nouvelle année ? L’Espace de Vie Saint-Exupéry vous invite à son traditionnel réveillon solidaire ! \nVenez partager un moment de fête inoubliable pour le Nouvel An\, dans une ambiance conviviale et ouverte à tous. C’est l’occasion parfaite de se rassembler et d’accueillir l’année dans la bonne humeur\, sans se soucier de l’organisation. \n🥂 Célébrer ensemble le 31 décembre\n\n\nQuoi : Réveillon solidaire organisé par l’Espace de Vie Saint-Exupéry \n\n\nQuand : Mercredi 31 décembre 2025 \n\n\nHeures : De 18h30 à 2h00 \n\n\nOù : Salle Dunant \n\n\n💰 Tarifs Solidaires (Boisson comprise)\nL’événement est conçu pour être accessible à toutes les familles\, grâce à une tarification basée sur le quotient familial : \n\n\n\nTranche d’âge/Quotient\nTarif (Boisson comprise)\n\n\n\n\nAdultes\nDe 7€ à 24€ (selon quotient familial)\n\n\nEnfants de 3 à 10 ans\n5€\n\n\nMoins de 3 ans\nGratuit\n\n\n\n📝 Inscriptions\nLes places étant limitées\, la réservation est indispensable ! \nPour tout renseignement et inscription\, contactez directement les organisateurs : \n\n\nSur place : Accueil du Centre Social Saint-Exupéry \n\n\nPar téléphone : 03 20 66 23 20 \n\n\n\nVenez nombreux pour célébrer la solidarité et faire de ce réveillon un moment inoubliable !
URL:https://www.commerces-hem.fr/evenement/reveillon-solidaire/
CATEGORIES:Adultes,Enfants
ATTACH;FMTTYPE=image/jpeg:https://www.commerces-hem.fr/wp-content/uploads/2025/12/AdobeStock_667754939-254x254-c-default.jpeg
END:VEVENT
END:VCALENDAR