BEGIN:VCALENDAR
VERSION:2.0
PRODID:-//Les commerçants d&#039;Hem J&#039;aime - ECPv6.15.20//NONSGML v1.0//EN
CALSCALE:GREGORIAN
METHOD:PUBLISH
X-ORIGINAL-URL:https://www.commerces-hem.fr
X-WR-CALDESC:Évènements pour Les commerçants d&#039;Hem J&#039;aime
REFRESH-INTERVAL;VALUE=DURATION:PT1H
X-Robots-Tag:noindex
X-PUBLISHED-TTL:PT1H
BEGIN:VTIMEZONE
TZID:Europe/Paris
BEGIN:DAYLIGHT
TZOFFSETFROM:+0100
TZOFFSETTO:+0200
TZNAME:CEST
DTSTART:20230326T010000
END:DAYLIGHT
BEGIN:STANDARD
TZOFFSETFROM:+0200
TZOFFSETTO:+0100
TZNAME:CET
DTSTART:20231029T010000
END:STANDARD
BEGIN:DAYLIGHT
TZOFFSETFROM:+0100
TZOFFSETTO:+0200
TZNAME:CEST
DTSTART:20240331T010000
END:DAYLIGHT
BEGIN:STANDARD
TZOFFSETFROM:+0200
TZOFFSETTO:+0100
TZNAME:CET
DTSTART:20241027T010000
END:STANDARD
BEGIN:DAYLIGHT
TZOFFSETFROM:+0100
TZOFFSETTO:+0200
TZNAME:CEST
DTSTART:20250330T010000
END:DAYLIGHT
BEGIN:STANDARD
TZOFFSETFROM:+0200
TZOFFSETTO:+0100
TZNAME:CET
DTSTART:20251026T010000
END:STANDARD
END:VTIMEZONE
BEGIN:VEVENT
DTSTART;VALUE=DATE:20241202
DTEND;VALUE=DATE:20241223
DTSTAMP:20260426T051247
CREATED:20250120T101740Z
LAST-MODIFIED:20250116T233855Z
UID:1097-1733097600-1734911999@www.commerces-hem.fr
SUMMARY:Grand Jeu de l’Union Commerciale
DESCRIPTION:Du 2 au 22 décembre 2024 \nPour célébrer les fêtes de fin d’année\, l’union commerciale Les Commerçants d’Hem\, j’aime organise un jeu concours original et ludique ! \nComment participer ? \n\nRetirez votre livret de participation auprès des 28 commerçants partenaires. Ou téléchargez le :\nIdentifiez 15 commerçants sur leurs photos d’enfance et associez-les à leurs commerces. (Les commerçants vous aiderons)\nFaites valider vos réponses par l’un des commerçants participants.\nDéposez votre bulletin de participation chez l’un des commerçants de l’union des commerçants\n\nÀ gagner : \n\nUn séjour pour 4 personnes (2 adultes\, 2 enfants) à Disneyland Paris et Pairi Daiza\, ainsi que de nombreux autres lots.\nUn tirage au sort sera effectué parmi les bonnes réponses.\n\nBonne chance à toutes et à tous ! \nTéléchargez le plateau de jeu et rendez-vous chez les commerçants participants : \n\n4MD – 12 rue de la Blanchisserie\n1000 Habitats – 69 rue du Général Leclerc\nAM La Lunetterie – 11 rue du Docteur Coubronne\nPizzeria Basilik – 2 boulevard Clemenceau\nBoulangerie Delcour – 24 place de la République\nBressan Immobilier – 6 place de la République\nCouturama – 12 rue de la Blanchisserie\nCrossfit Hemanta – 10 rue de la Blanchisserie\nDestoop Car – 27 rue Braquaval\nÊtre soi – 36 rue Braquaval\nFamousse Wood – 42T rue de Willems\nFée Maison – 68 rue du Docteur Coubronne\nHem Optique – 12 rue Jules Guesde\nBoulangerie Jonckière – 173 rue Jules Guesde\nLa Belle Hémoise – 5 rue du Docteur Coubronne\nLa Dame de Cao – 189 rue du Général Leclerc\nLes Légumes de Mathieu – 153 rue de Sailly\nLes Tours du Malt – 36 rue Braquaval\nL’Étable de Hem – 36 rue Braquaval\nLogéhome – 174 rue Jules Guesde\nBoulangerie Mathieu – 5 rue du Général Leclerc\nNuage Coffee Roasters – 34 rue Colbert\nÔ Clemenceau – 2 boulevard Clemenceau\nL’Olivier Blanc – 7 rue du Général Leclerc\nPharmacie de l’Hôtel de Ville – 31 rue du Général Leclerc\nQueues de Cerises – 230 rue du Général Leclerc\nSup’Hair – 2 rue du Docteur Coubronne\nPizza Nostra – 175 rue Jules Guesde\n\nParticipez et découvrez vos commerçants comme vous ne les avez jamais vus !
URL:https://www.commerces-hem.fr/evenement/grand-jeu-de-fin-dannee-de-lunion-commerciale/
CATEGORIES:Adultes,Enfants
ATTACH;FMTTYPE=image/jpeg:https://www.commerces-hem.fr/wp-content/uploads/2024/12/AFFICHE.-jeu-des-commercants-web-scaled-1.jpg
END:VEVENT
BEGIN:VEVENT
DTSTART;VALUE=DATE:20241218
DTEND;VALUE=DATE:20241223
DTSTAMP:20260426T051247
CREATED:20241218T092754Z
LAST-MODIFIED:20241218T092754Z
UID:1056-1734480000-1734911999@www.commerces-hem.fr
SUMMARY:Chalet solidaire Ludopital Hem
DESCRIPTION:Mercredi 18 décembre de 16h à 19h\, samedi 21 décembre de 14h à 17h\, dimanche 22 décembre de 14h à 16h\n\nRécolte de jouets neufs au profit de Ludopital pour les enfants hospitalisés
URL:https://www.commerces-hem.fr/evenement/chalet-solidaire-ludopital-hem/
LOCATION:Grand’Place de Hem\, Grand'Place\, HEM\, 59510\, France
CATEGORIES:Adultes,Enfants
ATTACH;FMTTYPE=image/jpeg:https://www.commerces-hem.fr/wp-content/uploads/2024/12/ludopital-logo-association.jpeg
END:VEVENT
BEGIN:VEVENT
DTSTART;VALUE=DATE:20241218
DTEND;VALUE=DATE:20241230
DTSTAMP:20260426T051247
CREATED:20241218T092416Z
LAST-MODIFIED:20241218T092416Z
UID:1052-1734480000-1735516799@www.commerces-hem.fr
SUMMARY:Village de Noël
DESCRIPTION:Patinoire\, manège et visite du Père Noël\n\nPatinoire :\n\nGratuite\, gants obligatoires.\nAccessible dès 3 ans (enfants de moins de 7 ans accompagnés d’un adulte sur la glace).\nSurface : 180 m².\n\n\nManège :\n\nPayant (tarifs disponibles sur place).\n\n\nPetite restauration disponible sur place.\nHoraires :\n\nOuverture : de 10h à 12h et de 14h à 19h.\nLancement le mercredi 18 décembre à 14h.\nFermetures exceptionnelles :\n\nÀ 20h30 le samedi 21 décembre.\nÀ 16h le mardi 24 décembre.\n\n\n\n\nVisite du Père Noël :\n\nSamedi 21 décembre : à partir de 18h.\nDimanche 22 décembre : de 10h à 12h et de 15h à 19h.\nMardi 24 décembre : de 10h à 12h et de 14h à 16h.
URL:https://www.commerces-hem.fr/evenement/village-de-noel/
LOCATION:Grand’Place de Hem\, Grand'Place\, HEM\, 59510\, France
CATEGORIES:Adultes,Enfants
ATTACH;FMTTYPE=image/jpeg:https://www.commerces-hem.fr/wp-content/uploads/2024/12/8041290-scaled.jpg
END:VEVENT
END:VCALENDAR