BEGIN:VCALENDAR
VERSION:2.0
PRODID:-//Les commerçants d&#039;Hem J&#039;aime - ECPv6.15.20//NONSGML v1.0//EN
CALSCALE:GREGORIAN
METHOD:PUBLISH
X-ORIGINAL-URL:https://www.commerces-hem.fr
X-WR-CALDESC:Évènements pour Les commerçants d&#039;Hem J&#039;aime
REFRESH-INTERVAL;VALUE=DURATION:PT1H
X-Robots-Tag:noindex
X-PUBLISHED-TTL:PT1H
BEGIN:VTIMEZONE
TZID:Europe/Paris
BEGIN:DAYLIGHT
TZOFFSETFROM:+0100
TZOFFSETTO:+0200
TZNAME:CEST
DTSTART:20240331T010000
END:DAYLIGHT
BEGIN:STANDARD
TZOFFSETFROM:+0200
TZOFFSETTO:+0100
TZNAME:CET
DTSTART:20241027T010000
END:STANDARD
BEGIN:DAYLIGHT
TZOFFSETFROM:+0100
TZOFFSETTO:+0200
TZNAME:CEST
DTSTART:20250330T010000
END:DAYLIGHT
BEGIN:STANDARD
TZOFFSETFROM:+0200
TZOFFSETTO:+0100
TZNAME:CET
DTSTART:20251026T010000
END:STANDARD
BEGIN:DAYLIGHT
TZOFFSETFROM:+0100
TZOFFSETTO:+0200
TZNAME:CEST
DTSTART:20260329T010000
END:DAYLIGHT
BEGIN:STANDARD
TZOFFSETFROM:+0200
TZOFFSETTO:+0100
TZNAME:CET
DTSTART:20261025T010000
END:STANDARD
END:VTIMEZONE
BEGIN:VEVENT
DTSTART;VALUE=DATE:20250411
DTEND;VALUE=DATE:20250417
DTSTAMP:20260426T001032
CREATED:20250331T085851Z
LAST-MODIFIED:20250331T085851Z
UID:1533-1744329600-1744847999@www.commerces-hem.fr
SUMMARY:Fête foraine de Hem du 11 au 16 Avril
DESCRIPTION:Fête foraine de Hem : Rendez-vous du 11 au 16 avril 2025 !\nLa traditionnelle ducasse fait son grand retour sur la Grand’ Place de Hem du 11 au 16 avril 2025 ! Petits et grands pourront profiter d’un large choix d’attractions\, de douceurs sucrées et d’une ambiance festive. \n📅 Horaires d’ouverture : \n\n\nLundi\, mardi et vendredi : 16h30 – 21h \n\n\nMercredi et samedi : 14h30 – 21h \n\n\nDimanche : 10h – 12h / 14h – 21h \n\n\nVenez nombreux partager ces moments de plaisir en famille ou entre amis !
URL:https://www.commerces-hem.fr/evenement/fete-foraine-de-hem-du-11-au-16-avril/
LOCATION:Grand’Place de Hem\, Grand'Place\, HEM\, 59510\, France
CATEGORIES:Adultes,Enfants
ATTACH;FMTTYPE=image/jpeg:https://www.commerces-hem.fr/wp-content/uploads/2025/03/17843243-1.jpg
END:VEVENT
END:VCALENDAR