BEGIN:VCALENDAR
VERSION:2.0
PRODID:-//Les commerçants d&#039;Hem J&#039;aime - ECPv6.15.20//NONSGML v1.0//EN
CALSCALE:GREGORIAN
METHOD:PUBLISH
X-WR-CALNAME:Les commerçants d&#039;Hem J&#039;aime
X-ORIGINAL-URL:https://www.commerces-hem.fr
X-WR-CALDESC:Évènements pour Les commerçants d&#039;Hem J&#039;aime
REFRESH-INTERVAL;VALUE=DURATION:PT1H
X-Robots-Tag:noindex
X-PUBLISHED-TTL:PT1H
BEGIN:VTIMEZONE
TZID:Europe/Paris
BEGIN:DAYLIGHT
TZOFFSETFROM:+0100
TZOFFSETTO:+0200
TZNAME:CEST
DTSTART:20240331T010000
END:DAYLIGHT
BEGIN:STANDARD
TZOFFSETFROM:+0200
TZOFFSETTO:+0100
TZNAME:CET
DTSTART:20241027T010000
END:STANDARD
BEGIN:DAYLIGHT
TZOFFSETFROM:+0100
TZOFFSETTO:+0200
TZNAME:CEST
DTSTART:20250330T010000
END:DAYLIGHT
BEGIN:STANDARD
TZOFFSETFROM:+0200
TZOFFSETTO:+0100
TZNAME:CET
DTSTART:20251026T010000
END:STANDARD
BEGIN:DAYLIGHT
TZOFFSETFROM:+0100
TZOFFSETTO:+0200
TZNAME:CEST
DTSTART:20260329T010000
END:DAYLIGHT
BEGIN:STANDARD
TZOFFSETFROM:+0200
TZOFFSETTO:+0100
TZNAME:CET
DTSTART:20261025T010000
END:STANDARD
END:VTIMEZONE
BEGIN:VEVENT
DTSTART;TZID=Europe/Paris:20250420T080000
DTEND;TZID=Europe/Paris:20250420T133000
DTSTAMP:20260426T001038
CREATED:20250331T100104Z
LAST-MODIFIED:20250331T100104Z
UID:1557-1745136000-1745155800@www.commerces-hem.fr
SUMMARY:Un café offert & un jeu concours au Marché de Hem
DESCRIPTION:☕🍫 Un café offert & un jeu concours au Marché de Hem – Dimanche 20 avril 2025\nDimanche 20 avril\, profitez d’une ambiance chaleureuse et gourmande sur le marché de la Grand’ Place de Hem ! \n🔸 Un café d’exception offert ☕L’Union des Commerçants de Hem vous invite à déguster gratuitement un café de spécialité bio\, fraîchement préparé par Nuage Coffee\, torréfacteur local basé à Hem. Un moment parfait pour démarrer votre marché du bon pied ! \n🔸 Un grand jeu concours : chamboule-tout ! 🎯Amusez-vous en famille ou entre amis avec notre chamboule-tout ! Tentez votre chance en faisant tomber toutes les quilles et repartez peut-être avec le gros lot : un immense œuf de Pâques en chocolat ! 🍫🐣 \n📍 Où ? Marché de la Grand’ Place de Hem📅 Quand ? Dimanche 20 avril 2025 \nVenez nombreux profiter de cette matinée conviviale et festive ! 🎉
URL:https://www.commerces-hem.fr/evenement/un-cafe-offert-un-jeu-concours-au-marche-de-hem/
LOCATION:Grand’Place de Hem\, Grand'Place\, HEM\, 59510\, France
CATEGORIES:Adultes,Enfants
ATTACH;FMTTYPE=image/png:https://www.commerces-hem.fr/wp-content/uploads/2025/03/Banniere-UDC-Cafe-Publication-Facebook.png
END:VEVENT
END:VCALENDAR