BEGIN:VCALENDAR
VERSION:2.0
PRODID:-//Les commerçants d&#039;Hem J&#039;aime - ECPv6.15.20//NONSGML v1.0//EN
CALSCALE:GREGORIAN
METHOD:PUBLISH
X-WR-CALNAME:Les commerçants d&#039;Hem J&#039;aime
X-ORIGINAL-URL:https://www.commerces-hem.fr
X-WR-CALDESC:Évènements pour Les commerçants d&#039;Hem J&#039;aime
REFRESH-INTERVAL;VALUE=DURATION:PT1H
X-Robots-Tag:noindex
X-PUBLISHED-TTL:PT1H
BEGIN:VTIMEZONE
TZID:Europe/Paris
BEGIN:DAYLIGHT
TZOFFSETFROM:+0100
TZOFFSETTO:+0200
TZNAME:CEST
DTSTART:20240331T010000
END:DAYLIGHT
BEGIN:STANDARD
TZOFFSETFROM:+0200
TZOFFSETTO:+0100
TZNAME:CET
DTSTART:20241027T010000
END:STANDARD
BEGIN:DAYLIGHT
TZOFFSETFROM:+0100
TZOFFSETTO:+0200
TZNAME:CEST
DTSTART:20250330T010000
END:DAYLIGHT
BEGIN:STANDARD
TZOFFSETFROM:+0200
TZOFFSETTO:+0100
TZNAME:CET
DTSTART:20251026T010000
END:STANDARD
BEGIN:DAYLIGHT
TZOFFSETFROM:+0100
TZOFFSETTO:+0200
TZNAME:CEST
DTSTART:20260329T010000
END:DAYLIGHT
BEGIN:STANDARD
TZOFFSETFROM:+0200
TZOFFSETTO:+0100
TZNAME:CET
DTSTART:20261025T010000
END:STANDARD
END:VTIMEZONE
BEGIN:VEVENT
DTSTART;TZID=Europe/Paris:20250705T093000
DTEND;TZID=Europe/Paris:20250705T140000
DTSTAMP:20260425T201801
CREATED:20250630T123240Z
LAST-MODIFIED:20250630T130712Z
UID:1683-1751707800-1751724000@www.commerces-hem.fr
SUMMARY:Gard’Hem Party : La Fête au Jardin des Pâquerettes !
DESCRIPTION:Le samedi 5 juillet\, de 9h30 à 14h\, venez (re)découvrir le Jardin des Pâquerettes\, l’espace vert situé à côté de la Maison de la Petite Enfance (124 rue des écoles). Cet événement\, organisé par la Maison de la Petite Enfance\, le Relais Petite Enfance et le Centre Social 3 Villes\, promet une matinée remplie de joie et de découvertes pour toute la famille ! \nAu programme : une multitude de jeux et activités pour les enfants\, incluant jeux en bois\, pêche aux canards\, stand patouille\, stand baby gym\, châteaux gonflables et stand maquillage. Un stand de restauration sera également sur place pour les petites faims. \nProfitez-en pour faire de belles découvertes avec la Maison de la Pêche\, de l’Eau et de la Nature ainsi que l’école municipale de musique. La Maison de la Petite Enfance ouvrira ses portes pour vous présenter ses services et les activités proposées par le Relais Petite Enfance pour les tout-petits. \nL’entrée est gratuite ! Venez nombreux pour une journée de plaisir et de partage.
URL:https://www.commerces-hem.fr/evenement/gardhem-party-la-fete-au-jardin-des-paquerettes/
CATEGORIES:Enfants
ATTACH;FMTTYPE=image/jpeg:https://www.commerces-hem.fr/wp-content/uploads/2025/06/gardhem-party-slide-site-254x254-c-default.jpg
END:VEVENT
END:VCALENDAR