BEGIN:VCALENDAR
VERSION:2.0
PRODID:-//Les commerçants d&#039;Hem J&#039;aime - ECPv6.15.20//NONSGML v1.0//EN
CALSCALE:GREGORIAN
METHOD:PUBLISH
X-ORIGINAL-URL:https://www.commerces-hem.fr
X-WR-CALDESC:Évènements pour Les commerçants d&#039;Hem J&#039;aime
REFRESH-INTERVAL;VALUE=DURATION:PT1H
X-Robots-Tag:noindex
X-PUBLISHED-TTL:PT1H
BEGIN:VTIMEZONE
TZID:Europe/Paris
BEGIN:DAYLIGHT
TZOFFSETFROM:+0100
TZOFFSETTO:+0200
TZNAME:CEST
DTSTART:20250330T010000
END:DAYLIGHT
BEGIN:STANDARD
TZOFFSETFROM:+0200
TZOFFSETTO:+0100
TZNAME:CET
DTSTART:20251026T010000
END:STANDARD
BEGIN:DAYLIGHT
TZOFFSETFROM:+0100
TZOFFSETTO:+0200
TZNAME:CEST
DTSTART:20260329T010000
END:DAYLIGHT
BEGIN:STANDARD
TZOFFSETFROM:+0200
TZOFFSETTO:+0100
TZNAME:CET
DTSTART:20261025T010000
END:STANDARD
BEGIN:DAYLIGHT
TZOFFSETFROM:+0100
TZOFFSETTO:+0200
TZNAME:CEST
DTSTART:20270328T010000
END:DAYLIGHT
BEGIN:STANDARD
TZOFFSETFROM:+0200
TZOFFSETTO:+0100
TZNAME:CET
DTSTART:20271031T010000
END:STANDARD
END:VTIMEZONE
BEGIN:VEVENT
DTSTART;TZID=Europe/Paris:20260110T203000
DTEND;TZID=Europe/Paris:20260110T203000
DTSTAMP:20260425T122254
CREATED:20251205T102558Z
LAST-MODIFIED:20251205T102558Z
UID:2127-1768077000-1768077000@www.commerces-hem.fr
SUMMARY:Miss Hem Val de Marque
DESCRIPTION:✨ Soirée de Gala : Élection de Miss Hem Val de Marque 2026 !\nLe glamour et l’élégance seront au rendez-vous à Hem ! La ville s’apprête à accueillir l’événement phare de l’année : l’élection de Miss Hem Val de Marque. \nQui succèdera à la rayonnante Léa Nowe ? Qui aura l’honneur de porter l’écharpe et de représenter notre territoire ? \nVenez assister à une magnifique soirée de gala\, soutenir les candidates locales et découvrir celle qui aura le privilège d’accéder aux étapes supérieures du concours. La gagnante concourra potentiellement pour l’élection de Miss Nord-Pas-de-Calais et\, qui sait\, peut-être pour le prestigieux titre de Miss France 2027 ! \n👑 Informations sur la Soirée\n\n\nÉvénement : Élection de Miss Hem Val de Marque \n\n\nQuand : Samedi 10 janvier 2026 \n\n\nHeure : 20h30 \n\n\nLieu : Le Zéphyr \n\n\n🎫 Billetterie\nNe manquez pas cette soirée exceptionnelle ! \n\n\nTarif unique : 24 € \n\n\nLes places sont disponibles en ligne : \n➡️ Réservez votre place sur : zephyrhem.fr \n\nRendez-vous le 10 janvier au Zéphyr pour une soirée pleine de rêve et d’élégance !
URL:https://www.commerces-hem.fr/evenement/miss-hem-val-de-marque/
LOCATION:Zéphyr\, Rue du Tilleul\, HEM\, 59510\, France
CATEGORIES:Adultes,Enfants,Zéphyr
ATTACH;FMTTYPE=image/jpeg:https://www.commerces-hem.fr/wp-content/uploads/2025/12/miss-254x254-c-default.jpg
END:VEVENT
END:VCALENDAR