BEGIN:VCALENDAR
VERSION:2.0
PRODID:-//Les commerçants d&#039;Hem J&#039;aime - ECPv6.15.20//NONSGML v1.0//EN
CALSCALE:GREGORIAN
METHOD:PUBLISH
X-ORIGINAL-URL:https://www.commerces-hem.fr
X-WR-CALDESC:Évènements pour Les commerçants d&#039;Hem J&#039;aime
REFRESH-INTERVAL;VALUE=DURATION:PT1H
X-Robots-Tag:noindex
X-PUBLISHED-TTL:PT1H
BEGIN:VTIMEZONE
TZID:Europe/Paris
BEGIN:DAYLIGHT
TZOFFSETFROM:+0100
TZOFFSETTO:+0200
TZNAME:CEST
DTSTART:20250330T010000
END:DAYLIGHT
BEGIN:STANDARD
TZOFFSETFROM:+0200
TZOFFSETTO:+0100
TZNAME:CET
DTSTART:20251026T010000
END:STANDARD
BEGIN:DAYLIGHT
TZOFFSETFROM:+0100
TZOFFSETTO:+0200
TZNAME:CEST
DTSTART:20260329T010000
END:DAYLIGHT
BEGIN:STANDARD
TZOFFSETFROM:+0200
TZOFFSETTO:+0100
TZNAME:CET
DTSTART:20261025T010000
END:STANDARD
BEGIN:DAYLIGHT
TZOFFSETFROM:+0100
TZOFFSETTO:+0200
TZNAME:CEST
DTSTART:20270328T010000
END:DAYLIGHT
BEGIN:STANDARD
TZOFFSETFROM:+0200
TZOFFSETTO:+0100
TZNAME:CET
DTSTART:20271031T010000
END:STANDARD
END:VTIMEZONE
BEGIN:VEVENT
DTSTART;TZID=Europe/Paris:20260123T200000
DTEND;TZID=Europe/Paris:20260123T200000
DTSTAMP:20260425T122253
CREATED:20260107T135331Z
LAST-MODIFIED:20260107T135331Z
UID:2159-1769198400-1769198400@www.commerces-hem.fr
SUMMARY:La Soirée Tartiflette des Tours du Malt
DESCRIPTION:Face à la rigueur de l’hiver\, l’équipe des Tours du Malt propose un remède des plus réconfortants : une soirée dédiée à la gourmandise et à la convivialité. Les participants pourront savourer une tartiflette généreuse\, où le fromage coulant rencontre la fraîcheur de leurs bières artisanales. \nLes détails de l’offre : \n\n\nLe concept : Un accord parfait entre un plat montagnard traditionnel et une sélection de bières brassées avec soin. \n\n\nLa formule : Le tarif proposé par l’établissement inclut une portion individuelle de tartiflette.
URL:https://www.commerces-hem.fr/evenement/la-soiree-tartiflette-des-tours-du-malt/
LOCATION:Les Tours du Malt\, 36 Rue Braquaval\, Hem\, 59510\, France
CATEGORIES:Adultes,Enfants
ATTACH;FMTTYPE=image/png:https://www.commerces-hem.fr/wp-content/uploads/2026/01/Capture-decran-2026-01-07-145313.png
ORGANIZER;CN="Les Tours du Malt":MAILTO:contact@lestoursdumalt.fr
END:VEVENT
END:VCALENDAR