BEGIN:VCALENDAR
VERSION:2.0
PRODID:-//Les commerçants d&#039;Hem J&#039;aime - ECPv6.15.20//NONSGML v1.0//EN
CALSCALE:GREGORIAN
METHOD:PUBLISH
X-ORIGINAL-URL:https://www.commerces-hem.fr
X-WR-CALDESC:Évènements pour Les commerçants d&#039;Hem J&#039;aime
REFRESH-INTERVAL;VALUE=DURATION:PT1H
X-Robots-Tag:noindex
X-PUBLISHED-TTL:PT1H
BEGIN:VTIMEZONE
TZID:Europe/Paris
BEGIN:DAYLIGHT
TZOFFSETFROM:+0100
TZOFFSETTO:+0200
TZNAME:CEST
DTSTART:20240331T010000
END:DAYLIGHT
BEGIN:STANDARD
TZOFFSETFROM:+0200
TZOFFSETTO:+0100
TZNAME:CET
DTSTART:20241027T010000
END:STANDARD
BEGIN:DAYLIGHT
TZOFFSETFROM:+0100
TZOFFSETTO:+0200
TZNAME:CEST
DTSTART:20250330T010000
END:DAYLIGHT
BEGIN:STANDARD
TZOFFSETFROM:+0200
TZOFFSETTO:+0100
TZNAME:CET
DTSTART:20251026T010000
END:STANDARD
BEGIN:DAYLIGHT
TZOFFSETFROM:+0100
TZOFFSETTO:+0200
TZNAME:CEST
DTSTART:20260329T010000
END:DAYLIGHT
BEGIN:STANDARD
TZOFFSETFROM:+0200
TZOFFSETTO:+0100
TZNAME:CET
DTSTART:20261025T010000
END:STANDARD
END:VTIMEZONE
BEGIN:VEVENT
DTSTART;TZID=Europe/Paris:20250704T183000
DTEND;TZID=Europe/Paris:20250704T183000
DTSTAMP:20260426T062453
CREATED:20250630T122143Z
LAST-MODIFIED:20250630T122433Z
UID:1678-1751653800-1751653800@www.commerces-hem.fr
SUMMARY:Le Centre Équestre Le Comte Fête Ses 50 Ans !
DESCRIPTION:Rendez-vous le vendredi 4 juillet pour une soirée mémorable ! Le Centre Équestre Le Comte\, situé rue de Croix à Hem\, vous invite à célébrer un demi-siècle de passion et d’équitation. \nLes festivités débuteront à 18h30 avec un spectacle équestre époustouflant. À 19h\, place au cocktail de bienvenue\, suivi des discours et remerciements. La soirée se prolongera ensuite de 20h à 4h du matin avec une grande soirée dansante en plein air sur le thème « Horse Circus ». Attendez-vous à des sets enflammés avec les DJ Bruno Van Garsse\, Seb Masterbafunk et Charles Schillings ! \nVous trouverez sur place un bar et de quoi vous restaurer\, ainsi que de nombreuses animations\, notamment pour les enfants avec des animatrices professionnelles. \nN’oubliez pas de réserver votre place pour cet événement exceptionnel !
URL:https://www.commerces-hem.fr/evenement/le-centre-equestre-le-comte-fete-ses-50-ans/
CATEGORIES:Adultes,Enfants,Spectacle
ATTACH;FMTTYPE=image/png:https://www.commerces-hem.fr/wp-content/uploads/2025/06/videoframe_466-e1751286266800.png
END:VEVENT
END:VCALENDAR