BEGIN:VCALENDAR
VERSION:2.0
PRODID:-//Les commerçants d&#039;Hem J&#039;aime - ECPv6.15.20//NONSGML v1.0//EN
CALSCALE:GREGORIAN
METHOD:PUBLISH
X-WR-CALNAME:Les commerçants d&#039;Hem J&#039;aime
X-ORIGINAL-URL:https://www.commerces-hem.fr
X-WR-CALDESC:Évènements pour Les commerçants d&#039;Hem J&#039;aime
REFRESH-INTERVAL;VALUE=DURATION:PT1H
X-Robots-Tag:noindex
X-PUBLISHED-TTL:PT1H
BEGIN:VTIMEZONE
TZID:Europe/Paris
BEGIN:DAYLIGHT
TZOFFSETFROM:+0100
TZOFFSETTO:+0200
TZNAME:CEST
DTSTART:20250330T010000
END:DAYLIGHT
BEGIN:STANDARD
TZOFFSETFROM:+0200
TZOFFSETTO:+0100
TZNAME:CET
DTSTART:20251026T010000
END:STANDARD
BEGIN:DAYLIGHT
TZOFFSETFROM:+0100
TZOFFSETTO:+0200
TZNAME:CEST
DTSTART:20260329T010000
END:DAYLIGHT
BEGIN:STANDARD
TZOFFSETFROM:+0200
TZOFFSETTO:+0100
TZNAME:CET
DTSTART:20261025T010000
END:STANDARD
BEGIN:DAYLIGHT
TZOFFSETFROM:+0100
TZOFFSETTO:+0200
TZNAME:CEST
DTSTART:20270328T010000
END:DAYLIGHT
BEGIN:STANDARD
TZOFFSETFROM:+0200
TZOFFSETTO:+0100
TZNAME:CET
DTSTART:20271031T010000
END:STANDARD
END:VTIMEZONE
BEGIN:VEVENT
DTSTART;TZID=Europe/Paris:20260201T150000
DTEND;TZID=Europe/Paris:20260201T200000
DTSTAMP:20260425T214100
CREATED:20260129T095139Z
LAST-MODIFIED:20260129T095213Z
UID:2300-1769958000-1769976000@www.commerces-hem.fr
SUMMARY:Spectacle à Hem : Théâtre wallon au Zéphyr
DESCRIPTION:Dimanche 1er février 2026 – 15h \nVous cherchez que faire à Hem le week-end ?Direction le Zéphyr à Hem pour un spectacle de théâtre wallon drôle\, piquant et plein d’humanité. \nLa pièce « Si j’arôs su »\, interprétée par la Compagnie Royale Marius Staquet\, nous plonge dans le quotidien mouvementé d’un hôpital en sous-effectif.Entre patients mécontents\, personnel débordé\, arrivée inattendue d’une nouvelle malade… et un ministre hospitalisé au même endroit\, la situation vire rapidement à la comédie explosive ! \nUn spectacle à Hem idéal pour passer un moment convivial\, rire et profiter d’une activité culturelle locale. \n📍 Lieu : Le Zéphyr\, rue du Tilleul\, Hem💶 Tarif unique : 13 €🎟️ Billetterie en ligne ou permanence🗓️ Samedi 24 janvier\, de 10h à 12h📍 Espace Culturel Franchomme\, 1 rue du Général Leclerc \n👉 Un rendez-vous à ne pas manquer parmi les événements à Hem en février.
URL:https://www.commerces-hem.fr/evenement/spectacle-a-hem-theatre-wallon-au-zephyr/
LOCATION:Zéphyr\, Rue du Tilleul\, HEM\, 59510\, France
CATEGORIES:Spectacle,Zéphyr
ATTACH;FMTTYPE=image/jpeg:https://www.commerces-hem.fr/wp-content/uploads/2026/01/465648781_1176794713918350_7682099103625554188_n.jpg
END:VEVENT
END:VCALENDAR