BEGIN:VCALENDAR
VERSION:2.0
PRODID:-//Les commerçants d&#039;Hem J&#039;aime - ECPv6.15.20//NONSGML v1.0//EN
CALSCALE:GREGORIAN
METHOD:PUBLISH
X-WR-CALNAME:Les commerçants d&#039;Hem J&#039;aime
X-ORIGINAL-URL:https://www.commerces-hem.fr
X-WR-CALDESC:Évènements pour Les commerçants d&#039;Hem J&#039;aime
REFRESH-INTERVAL;VALUE=DURATION:PT1H
X-Robots-Tag:noindex
X-PUBLISHED-TTL:PT1H
BEGIN:VTIMEZONE
TZID:Europe/Paris
BEGIN:DAYLIGHT
TZOFFSETFROM:+0100
TZOFFSETTO:+0200
TZNAME:CEST
DTSTART:20250330T010000
END:DAYLIGHT
BEGIN:STANDARD
TZOFFSETFROM:+0200
TZOFFSETTO:+0100
TZNAME:CET
DTSTART:20251026T010000
END:STANDARD
BEGIN:DAYLIGHT
TZOFFSETFROM:+0100
TZOFFSETTO:+0200
TZNAME:CEST
DTSTART:20260329T010000
END:DAYLIGHT
BEGIN:STANDARD
TZOFFSETFROM:+0200
TZOFFSETTO:+0100
TZNAME:CET
DTSTART:20261025T010000
END:STANDARD
BEGIN:DAYLIGHT
TZOFFSETFROM:+0100
TZOFFSETTO:+0200
TZNAME:CEST
DTSTART:20270328T010000
END:DAYLIGHT
BEGIN:STANDARD
TZOFFSETFROM:+0200
TZOFFSETTO:+0100
TZNAME:CET
DTSTART:20271031T010000
END:STANDARD
END:VTIMEZONE
BEGIN:VEVENT
DTSTART;TZID=Europe/Paris:20260313T200000
DTEND;TZID=Europe/Paris:20260313T230000
DTSTAMP:20260425T201714
CREATED:20260129T115310Z
LAST-MODIFIED:20260129T115328Z
UID:2380-1773432000-1773442800@www.commerces-hem.fr
SUMMARY:Spectacle à Hem : Celtic Legends – Musiques et danses irlandaises
DESCRIPTION:🍀 Spectacle à Hem : Celtic Legends – Musiques et danses irlandaisesVendredi 13 mars 2026 – 20h \nVous cherchez que faire à Hem ce week-end pour une soirée festive et culturelle ?Plongez dans l’univers de Celtic Legends\, un spectacle exceptionnel de musique et danse irlandaises\, qui a déjà séduit près de 3 millions de spectateurs à travers le monde. \n✨ Au programme : \n\n\nDeux heures de voyage au cœur de l’Irlande\, recréant l’ambiance électrisante d’un pub traditionnel irlandais. \n\n\n5 musiciens talentueux dirigés par Sean McCarthy et 12 danseurs extraordinaires sous la direction artistique de Jacintha Sharpe. \n\n\nUne expérience immersive qui combine tradition\, rythme et virtuosité\, pour toute la famille. \n\n\n📍 Lieu : Hem🕗 Horaire : 20h \n👉 Une activité culturelle incontournable à Hem\, parfaite pour les amateurs de musique\, de danse et de traditions irlandaises.
URL:https://www.commerces-hem.fr/evenement/spectacle-a-hem-celtic-legends-musiques-et-danses-irlandaises/
LOCATION:Zéphyr\, Rue du Tilleul\, HEM\, 59510\, France
CATEGORIES:Spectacle,Zéphyr
ATTACH;FMTTYPE=image/jpeg:https://www.commerces-hem.fr/wp-content/uploads/2026/01/CelticLegendsAFF.jpg
END:VEVENT
END:VCALENDAR