BEGIN:VCALENDAR
VERSION:2.0
PRODID:-//Les commerçants d&#039;Hem J&#039;aime - ECPv6.15.20//NONSGML v1.0//EN
CALSCALE:GREGORIAN
METHOD:PUBLISH
X-WR-CALNAME:Les commerçants d&#039;Hem J&#039;aime
X-ORIGINAL-URL:https://www.commerces-hem.fr
X-WR-CALDESC:Évènements pour Les commerçants d&#039;Hem J&#039;aime
REFRESH-INTERVAL;VALUE=DURATION:PT1H
X-Robots-Tag:noindex
X-PUBLISHED-TTL:PT1H
BEGIN:VTIMEZONE
TZID:Europe/Paris
BEGIN:DAYLIGHT
TZOFFSETFROM:+0100
TZOFFSETTO:+0200
TZNAME:CEST
DTSTART:20250330T010000
END:DAYLIGHT
BEGIN:STANDARD
TZOFFSETFROM:+0200
TZOFFSETTO:+0100
TZNAME:CET
DTSTART:20251026T010000
END:STANDARD
BEGIN:DAYLIGHT
TZOFFSETFROM:+0100
TZOFFSETTO:+0200
TZNAME:CEST
DTSTART:20260329T010000
END:DAYLIGHT
BEGIN:STANDARD
TZOFFSETFROM:+0200
TZOFFSETTO:+0100
TZNAME:CET
DTSTART:20261025T010000
END:STANDARD
BEGIN:DAYLIGHT
TZOFFSETFROM:+0100
TZOFFSETTO:+0200
TZNAME:CEST
DTSTART:20270328T010000
END:DAYLIGHT
BEGIN:STANDARD
TZOFFSETFROM:+0200
TZOFFSETTO:+0100
TZNAME:CET
DTSTART:20271031T010000
END:STANDARD
END:VTIMEZONE
BEGIN:VEVENT
DTSTART;TZID=Europe/Paris:20260319T200000
DTEND;TZID=Europe/Paris:20260319T230000
DTSTAMP:20260425T201715
CREATED:20260129T115528Z
LAST-MODIFIED:20260129T115607Z
UID:2383-1773950400-1773961200@www.commerces-hem.fr
SUMMARY:Concert à Hem : Orchestre National de Lille
DESCRIPTION:🎻 Concert à Hem : Orchestre National de Lille – Joyeux anniversaire à l’ONLJeudi 19 mars 2026 – 20h \nVous cherchez que faire à Hem en soirée pour une expérience musicale exceptionnelle ?Venez célébrer les 50 ans de l’Orchestre National de Lille avec un programme de gala dirigé par Joshua Weilerstein et le violoncelliste de renommée internationale Nicolas Altstaedt. \n✨ Au programme : \n\n\nOffenbach – Orphée aux Enfers (ouverture) : une ouverture pétillante\, emblématique du French cancan\, alliant légèreté et raffinement. \n\n\nSaint-Saëns – Concerto pour violoncelle n°1 : Nicolas Altstaedt dévoile toute sa virtuosité et son lyrisme dans ce concerto héroïque et majestueux. \n\n\nBrahms – Symphonie n°1 : une symphonie monumentale\, fruit de 20 ans de réflexion\, mêlant grandeur\, équilibre et intensité orchestrale. \n\n\n📍 Lieu : Hem🕗 Horaire : 20h \n👉 Une soirée incontournable à Hem pour les amateurs de musique classique\, riche en émotions et en virtuosité.
URL:https://www.commerces-hem.fr/evenement/concert-a-hem-orchestre-national-de-lille/
LOCATION:Zéphyr\, Rue du Tilleul\, HEM\, 59510\, France
CATEGORIES:Spectacle,Zéphyr
ATTACH;FMTTYPE=image/png:https://www.commerces-hem.fr/wp-content/uploads/2026/01/images.png
END:VEVENT
END:VCALENDAR