BEGIN:VCALENDAR
VERSION:2.0
PRODID:-//Les commerçants d&#039;Hem J&#039;aime - ECPv6.15.20//NONSGML v1.0//EN
CALSCALE:GREGORIAN
METHOD:PUBLISH
X-ORIGINAL-URL:https://www.commerces-hem.fr
X-WR-CALDESC:Évènements pour Les commerçants d&#039;Hem J&#039;aime
REFRESH-INTERVAL;VALUE=DURATION:PT1H
X-Robots-Tag:noindex
X-PUBLISHED-TTL:PT1H
BEGIN:VTIMEZONE
TZID:Europe/Paris
BEGIN:DAYLIGHT
TZOFFSETFROM:+0100
TZOFFSETTO:+0200
TZNAME:CEST
DTSTART:20250330T010000
END:DAYLIGHT
BEGIN:STANDARD
TZOFFSETFROM:+0200
TZOFFSETTO:+0100
TZNAME:CET
DTSTART:20251026T010000
END:STANDARD
BEGIN:DAYLIGHT
TZOFFSETFROM:+0100
TZOFFSETTO:+0200
TZNAME:CEST
DTSTART:20260329T010000
END:DAYLIGHT
BEGIN:STANDARD
TZOFFSETFROM:+0200
TZOFFSETTO:+0100
TZNAME:CET
DTSTART:20261025T010000
END:STANDARD
BEGIN:DAYLIGHT
TZOFFSETFROM:+0100
TZOFFSETTO:+0200
TZNAME:CEST
DTSTART:20270328T010000
END:DAYLIGHT
BEGIN:STANDARD
TZOFFSETFROM:+0200
TZOFFSETTO:+0100
TZNAME:CET
DTSTART:20271031T010000
END:STANDARD
END:VTIMEZONE
BEGIN:VEVENT
DTSTART;TZID=Europe/Paris:20260411T143000
DTEND;TZID=Europe/Paris:20260411T143000
DTSTAMP:20260426T001454
CREATED:20260408T080935Z
LAST-MODIFIED:20260408T080935Z
UID:3379-1775917800-1775917800@www.commerces-hem.fr
SUMMARY:🎶 Évasion musicale : Suivez les aventures de Rosie !
DESCRIPTION:Le samedi 11 avril à 14h30\, rendez-vous à la salle Dunant pour découvrir Rosie\, un conte musical enchanteur. Imaginez : Rosie se réveille au milieu d’un magasin d’instruments… C’est le point de départ d’un tour du monde mélodique à la rencontre de musiciens passionnés. \n\n\nTarif : 2 € \n\n\nRéservation obligatoire sur le site HelloAsso.
URL:https://www.commerces-hem.fr/evenement/%f0%9f%8e%b6-evasion-musicale-suivez-les-aventures-de-rosie/
CATEGORIES:Adultes,Enfants,Spectacle
ATTACH;FMTTYPE=image/jpeg:https://www.commerces-hem.fr/wp-content/uploads/2026/04/Photorama-Rosie-20251-254x254-c-default.jpg
END:VEVENT
END:VCALENDAR